BEGIN:VCALENDAR
VERSION:2.0
PRODID:-//ChamberMaster//Event Calendar 2.0//EN
METHOD:PUBLISH
X-PUBLISHED-TTL:P3D
REFRESH-INTERVAL:P3D
CALSCALE:GREGORIAN
BEGIN:VEVENT
DTSTART;VALUE=DATE:20111002
DTEND;VALUE=DATE:20111003
TRANSP:TRANSPARENT
X-MICROSOFT-CDO-ALLDAYEVENT:TRUE
SUMMARY:Cycle NC
DESCRIPTION:Cycle North Carolina is a bicycle tour of North Carolina which will begin in Elkin\, NC on Saturday\, October 1.  On Sunday\, October 2\, the bikers will camp or stay in the area around Autumn Creek Vineyards in Mayodan.  The tour will continue with bikers riding to Reidsville with a rest stop from 9am-12Noon at Market Square.  Please come out to welcome the bikers to our area.  Please click link http://cyclenc@ncsports.org  for more information.
X-ALT-DESC;FMTTYPE=text/html:Cycle North Carolina is a bicycle tour of North Carolina which will begin in Elkin\, NC on Saturday\, October 1.&nbsp\; On Sunday\, October 2\, the bikers will camp or stay in the area around Autumn Creek Vineyards in Mayodan.&nbsp\; The tour will continue with bikers riding to Reidsville with a rest stop from 9am-12Noon at Market Square.&nbsp\; Please come out to welcome the bikers to our area.&nbsp\; Please click link <a href="http://cyclenc@ncsports.org">http://cyclenc@ncsports.org</a>&nbsp\; for more information.
LOCATION:Autumn Creet Vineyards in Mayodan\, NC on Sunday\, October\, 2. Market Square Reidsville\, NC on Monday\, October 3\, 9am-12 Noon
UID:e.111.1920
SEQUENCE:3
DTSTAMP:20260423T085208Z
URL:https://business.reidsvillechamber.org/events/details/cycle-nc-10-02-2011-1920
END:VEVENT

END:VCALENDAR
