BEGIN:VCALENDAR
VERSION:2.0
PRODID:-//ChamberMaster//Event Calendar 2.0//EN
METHOD:PUBLISH
X-PUBLISHED-TTL:P3D
REFRESH-INTERVAL:P3D
CALSCALE:GREGORIAN
BEGIN:VEVENT
DTSTART:20110402T220000Z
DTEND:20110403T030000Z
X-MICROSOFT-CDO-ALLDAYEVENT:FALSE
SUMMARY:Dan River Rugby RuggerRoast
DESCRIPTION:The RuggerRoast is a fun festive event featuring all you can eat BBQ\, Beverages & entertainment by "THE WORX"
X-ALT-DESC;FMTTYPE=text/html:The RuggerRoast is a fun festive event featuring all you can eat BBQ\, Beverages &amp\; entertainment by "THE WORX"
LOCATION:Danville Community Market on Craighead Street\, Danvile\, VA
UID:e.111.1599
SEQUENCE:3
DTSTAMP:20260423T182158Z
URL:https://business.reidsvillechamber.org/events/details/dan-river-rugby-ruggerroast-04-02-2011-1599
END:VEVENT

END:VCALENDAR
