BEGIN:VCALENDAR
VERSION:2.0
PRODID:-//ChamberMaster//Event Calendar 2.0//EN
METHOD:PUBLISH
X-PUBLISHED-TTL:P3D
REFRESH-INTERVAL:P3D
CALSCALE:GREGORIAN
BEGIN:VEVENT
DTSTART:20150208T220000Z
DTEND:20150208T230000Z
X-MICROSOFT-CDO-ALLDAYEVENT:FALSE
SUMMARY:Daystar Church Launch
DESCRIPTION:We will be launching the Reidsville Campus on February 8th. Our Service will begin at 5:00 PM. If you're interested in a life-giving local church\, come check us out on February 8th!
X-ALT-DESC;FMTTYPE=text/html:We will be launching the Reidsville Campus on February 8th. Our Service will begin at 5:00 PM. If you&#39\;re interested in a life-giving local church\, come check us out on February 8th!
LOCATION:Monroeton Elementary School
UID:e.111.2987
SEQUENCE:3
DTSTAMP:20260422T103313Z
URL:https://business.reidsvillechamber.org/events/details/daystar-church-launch-02-08-2015-2987
END:VEVENT

END:VCALENDAR
