BEGIN:VCALENDAR
VERSION:2.0
PRODID:-//ChamberMaster//Event Calendar 2.0//EN
METHOD:PUBLISH
X-PUBLISHED-TTL:P3D
REFRESH-INTERVAL:P3D
CALSCALE:GREGORIAN
BEGIN:VEVENT
DTSTART;VALUE=DATE:20111101
DTEND;VALUE=DATE:20111102
TRANSP:TRANSPARENT
X-MICROSOFT-CDO-ALLDAYEVENT:TRUE
SUMMARY:December County-Wide Coffee at American Red Cross
DESCRIPTION:In addition to our December 1\, Reidsville Chamber Coffee\, hosted by the Aging\,  Disability & Transit Services of Rockingham County\, the Rockingham County Chapter of the American Red Cross will be hosting a Chamber Coffee for the Reidsville Chamber\, Eden Chamber\, and Western Rockingham Chamber. The American Red Cross will gladly accept canned goods and nonperishable food items for their pantry at the coffee.
X-ALT-DESC;FMTTYPE=text/html:In addition to our December 1\, Reidsville Chamber Coffee\, hosted by the Aging\,&nbsp\; Disability &amp\; Transit Services of Rockingham County\, the Rockingham County Chapter of the American Red Cross will be hosting a Chamber Coffee for the Reidsville Chamber\, Eden Chamber\, and Western Rockingham Chamber. The American Red Cross will gladly accept canned goods and nonperishable food items for their pantry at the coffee.
LOCATION:American Red Cross\, 3692 NC HWY 14 Reidsville\, NC 27320
UID:e.111.2062
SEQUENCE:3
DTSTAMP:20260421T193020Z
URL:https://business.reidsvillechamber.org/events/details/december-county-wide-coffee-at-american-red-cross-11-01-2011-2062
END:VEVENT

END:VCALENDAR
