BEGIN:VCALENDAR
VERSION:2.0
PRODID:-//ChamberMaster//Event Calendar 2.0//EN
METHOD:PUBLISH
X-PUBLISHED-TTL:P3D
REFRESH-INTERVAL:P3D
CALSCALE:GREGORIAN
BEGIN:VEVENT
DTSTART:20111227T150000Z
DTEND:20111227T170000Z
X-MICROSOFT-CDO-ALLDAYEVENT:FALSE
SUMMARY:Diabetes Class
DESCRIPTION:Classes will be held on Tuesdays at 10:00 a.m. in Dining Room A on Annie Penn Hospital's Ground Floor\, and listed Thursdays at 6:30 p.m. in the same location. Each class will cover the following topics: Portion size\, food labels\, carbohydrate sources\, carbohydrate counting\, and weight management. No appointment is necessary. For more information\, please call Jenifer Kayan\, RD\, LDN at 951-4673.
X-ALT-DESC;FMTTYPE=text/html:<span style="font-size: 10pt\; font-family: calibri\; mso-fareast-font-family: 'times new roman'\; mso-bidi-font-family: arial\; mso-ansi-language: en-us\; mso-fareast-language: en-us\; mso-bidi-language: ar-sa"><font color="#000000" face="Times New Roman">Classes will be held on <strong>Tuesdays at 10:00 a.m. </strong>in <strong>Dining Room A</strong> on <strong>Annie Penn Hospital&rsquo\;s Ground Floor</strong>\, and listed <strong>Thursdays at 6:30 p.m. </strong>in the <strong>same location</strong>. Each class will cover the following topics: Portion size\, food labels\, carbohydrate sources\, carbohydrate counting\, and weight management. No appointment is necessary. For more information\, please call Jenifer Kayan\, RD\, LDN at 951-4673.</font></span>
LOCATION:Annie Penn Hospital
UID:e.111.2089
SEQUENCE:3
DTSTAMP:20260421T174841Z
URL:https://business.reidsvillechamber.org/events/details/diabetes-class-12-27-2011-2089
END:VEVENT

END:VCALENDAR
