BEGIN:VCALENDAR
VERSION:2.0
PRODID:-//ChamberMaster//Event Calendar 2.0//EN
METHOD:PUBLISH
X-PUBLISHED-TTL:P3D
REFRESH-INTERVAL:P3D
CALSCALE:GREGORIAN
BEGIN:VEVENT
DTSTART:20101104T140000Z
DTEND:20101104T190000Z
X-MICROSOFT-CDO-ALLDAYEVENT:FALSE
SUMMARY:Diabetic Meter Clinic Day
DESCRIPTION:Get your meter checked or upgraded for FREE with an Accu-Chek Aviva.
X-ALT-DESC;FMTTYPE=text/html:Get your meter checked or upgraded for FREE with an Accu-Chek Aviva.
LOCATION:Carolina Apothecary\, 726 S. Scales Street\, Reidsville
UID:e.111.1542
SEQUENCE:3
DTSTAMP:20260424T022801Z
URL:https://business.reidsvillechamber.org/events/details/diabetic-meter-clinic-day-11-04-2010-1542
END:VEVENT

END:VCALENDAR
