BEGIN:VCALENDAR
VERSION:2.0
PRODID:-//ChamberMaster//Event Calendar 2.0//EN
METHOD:PUBLISH
X-PUBLISHED-TTL:P3D
REFRESH-INTERVAL:P3D
CALSCALE:GREGORIAN
BEGIN:VEVENT
DTSTART:20101116T140000Z
DTEND:20101116T173000Z
X-MICROSOFT-CDO-ALLDAYEVENT:FALSE
SUMMARY:Diabetic Meter Clinic Day at Carolina Apothecary
DESCRIPTION:Get your meter checked or upgraded for FREE with Prodigy.
X-ALT-DESC;FMTTYPE=text/html:Get your meter checked or upgraded for FREE with Prodigy.
LOCATION:Carolina Apothecary\, 726 S. Scales Street\, Reidsville
UID:e.111.1544
SEQUENCE:3
DTSTAMP:20260424T023049Z
URL:https://business.reidsvillechamber.org/events/details/diabetic-meter-clinic-day-at-carolina-apothecary-11-16-2010-1544
END:VEVENT

END:VCALENDAR
