BEGIN:VCALENDAR
VERSION:2.0
PRODID:-//ChamberMaster//Event Calendar 2.0//EN
METHOD:PUBLISH
X-PUBLISHED-TTL:P3D
REFRESH-INTERVAL:P3D
CALSCALE:GREGORIAN
BEGIN:VEVENT
DTSTART:20091112T160000Z
DTEND:20091112T190000Z
X-MICROSOFT-CDO-ALLDAYEVENT:FALSE
SUMMARY:Diabetic screening & nutrition
DESCRIPTION:Registered Dietician 12pm-1pm and Diabetic Sales Representative\; Free Blood Glucose Checks
X-ALT-DESC;FMTTYPE=text/html:Registered Dietician 12pm-1pm and Diabetic Sales Representative\; Free Blood Glucose Checks
LOCATION:Carolina Apothecary
UID:e.111.1262
SEQUENCE:3
DTSTAMP:20260424T234657Z
URL:https://business.reidsvillechamber.org/events/details/diabetic-screening-nutrition-11-12-2009-1262
END:VEVENT

END:VCALENDAR
