BEGIN:VCALENDAR
VERSION:2.0
PRODID:-//ChamberMaster//Event Calendar 2.0//EN
METHOD:PUBLISH
X-PUBLISHED-TTL:P3D
REFRESH-INTERVAL:P3D
CALSCALE:GREGORIAN
BEGIN:VEVENT
DTSTART:20120301T130000Z
DTEND:20120302T000000Z
X-MICROSOFT-CDO-ALLDAYEVENT:FALSE
SUMMARY:Doctor's Vision Center Frame Show
DESCRIPTION:Frame Show at Doctor's Vision Center (Dr. Mark Cotter) - 100 Professional Drive\, Reidsville NC 27320 (located off of Freeway Drive)\n\n	\n\n	\n\n	Save 40% on a complete pair of eyeglasses. Doctor's Vision Center is having a Frame Show!! Come see the latest frames and sunglasses from popular designers.\n\n	 \n\n	We will have refreshments\, giveaways and you can register to win door prizes!!
X-ALT-DESC;FMTTYPE=text/html:<p>\n	Frame Show at Doctor&#39\;s Vision Center (Dr. Mark Cotter) - 100 Professional Drive\, Reidsville NC 27320 (located off of Freeway Drive)<br />\n	<br />\n	<br />\n	Save 40% on a complete pair of eyeglasses. Doctor&#39\;s Vision Center is having a Frame Show!! Come see the latest frames and sunglasses from popular designers.<br />\n	&nbsp\;</p>\n<p>\n	We will have refreshments\, giveaways and you can register to win door prizes!!</p>\n
LOCATION:
UID:e.111.2154
SEQUENCE:3
DTSTAMP:20260421T143902Z
URL:https://business.reidsvillechamber.org/events/details/doctor-s-vision-center-frame-show-03-01-2012-2154
END:VEVENT

END:VCALENDAR
