BEGIN:VCALENDAR
VERSION:2.0
PRODID:-//ChamberMaster//Event Calendar 2.0//EN
METHOD:PUBLISH
X-PUBLISHED-TTL:P3D
REFRESH-INTERVAL:P3D
CALSCALE:GREGORIAN
BEGIN:VEVENT
DTSTART:20110929T130000Z
DTEND:20110930T210000Z
X-MICROSOFT-CDO-ALLDAYEVENT:FALSE
SUMMARY:Double your United Way Gift!
DESCRIPTION:Double your gift to the United Way of Rockingham County!\n\n \n\nWe at United Way of Rockingham County want to express our true appreciation to those of you who came out last Thursday evening\, September 22nd for our first annual Taste of Rockingham County fundraiser. We hope you enjoyed the event. Thank you\, also\, to those of you who donated to the Williams tournament for the dollar-for-dollar match. Your gift will make a difference.\n\n \n\nIf you were unable to attend or participate in the Williams match opportunity on Thursday evening\, you can make your donation this week and still take advantage of the match. Please make out your check to "Williams United Way"with United Way of Rockingham Countyin the memo section\, and deliver to our office by hand or US mail no later than 5 PM this Friday\, September 30th. If you desire to split your payroll deduction with a one-time gift through the Williams Company\, your entire gift (Williams gift and payroll deduction) will still be applied toward your company campaign. \n\n \n\nSo far\, we have received $31\,000 toward the Williams match with checks arriving daily. Our total amount raised last year was $53\,000. But\, the Williams Company is willing to match dollar for dollar up to $100\,000! We want to exceed last year's total---and of course\, we don't want to leave any dollars "on the table!" We ask you to help in any way you can---and thank you in advance for giving and helping to keep our community strong!\n\n \n\n \n\nPlease contact the United Way office at 342-7768 if you wish to take advantage of this great opportunity!
X-ALT-DESC;FMTTYPE=text/html:<span style="font-size:16.0pt\;">Double your gift to the United Way of Rockingham County!</span><br />\n&nbsp\;<br />\n<span style="font-family:arial\,sans-serif\;">We at United Way of Rockingham County want to express our true appreciation to those of you who came out last Thursday evening\, September 22<sup>nd</sup> for our first annual Taste of Rockingham County fundraiser. We hope you enjoyed the event. Thank you\, also\, to those of you who donated to the Williams tournament for the dollar-for-dollar match. Your gift will make a difference</span><span style="font-family:arial\,sans-serif\;"><span style="font-size:10.0pt\;">.</span></span><br />\n&nbsp\;<br />\n<span style="font-family:arial\,sans-serif\;">If you were unable to attend or participate in the Williams match opportunity on Thursday evening\, you can make your donation this week and still take advantage of the match. <span style="color:blue\;">Please make out your check to </span></span><strong><span style="font-family:arial\,sans-serif\;">&quot\;Williams United Way&quot\;</span></strong><span style="color:blue\;">with </span><strong><span style="font-family:arial\,sans-serif\;">United Way of Rockingham County</span></strong><span style="color:blue\;">in the memo section\, and&nbsp\;</span><strong><span style="font-family:arial\,sans-serif\;">deliver to our office by hand or US mail&nbsp\;no later than&nbsp\;5 PM this Friday\, September 30th</span></strong><span style="color:blue\;">.</span> If you desire to split your payroll deduction with a one-time gift through the Williams Company\, your entire gift&nbsp\;(Williams gift and payroll deduction) will still be applied toward your company campaign<span style="font-family:arial\,sans-serif\;"><span style="font-size:10.0pt\;">. </span></span><br />\n&nbsp\;<br />\n<span style="font-family:arial\,sans-serif\;">So far\, we have received $31\,000 toward the Williams match with checks arriving daily. Our total amount raised last year was $53\,000. But\, the Williams Company is willing to match dollar for dollar up to $100\,000! We want to exceed last year&#39\;s total---and of course\, we don&#39\;t want to leave any dollars &quot\;on the table!&quot\; We ask you to help in any way you can---and thank you in advance for giving and helping to keep our community strong!</span><br />\n&nbsp\;<br />\n&nbsp\;<br />\n<strong><u><span style="font-family:arial\,sans-serif\;">Please contact the United Way office at 342-7768 if you wish to take advantage of this great opportunity!&nbsp\; </span></u></strong>&nbsp\;<br />\n&nbsp\;
LOCATION:
UID:e.111.2041
SEQUENCE:3
DTSTAMP:20260423T103421Z
URL:https://business.reidsvillechamber.org/events/details/double-your-united-way-gift-09-29-2011-2041
END:VEVENT

END:VCALENDAR
