BEGIN:VCALENDAR
VERSION:2.0
PRODID:-//ChamberMaster//Event Calendar 2.0//EN
METHOD:PUBLISH
X-PUBLISHED-TTL:P3D
REFRESH-INTERVAL:P3D
CALSCALE:GREGORIAN
BEGIN:VEVENT
DTSTART:20120313T221500Z
DTEND:20120314T001500Z
X-MICROSOFT-CDO-ALLDAYEVENT:FALSE
SUMMARY:Downtown Reidsville Visual Merchandising Workshop
DESCRIPTION:Puzzled about your store displays?\n\n	\n\n	Join us at the Downtown Reidsville Visual Merchandising Workshop by Bob Sharpe!\n\n	\n\n	Tuesday\, March 13\, 2012 6:15 pm - 8:15 pm\n\n	\n\n	Its FREE and everyone is invited!\n\n	\n\n	It offers a wealth of information that is not available to most retail business owners.\n\n	\n\n	Welcome will be at the Reidsville Chamber of Commerce at 112 Settle Street\, then will move to other downtown locations within approximately one block.\n\n	\n\n	Please register at rdc@ci.reidsville.nc.us OR 336.347.2307
X-ALT-DESC;FMTTYPE=text/html:<p style="text-align: center">\n	<strong><span style="font-size: 14px">Puzzled about your store displays?</span></strong><br />\n	<br />\n	<span style="font-size: 14px"><span style="font-size: 12px">Join us at the Downtown Reidsville Visual Merchandising Workshop by Bob Sharpe!</span></span><br />\n	<br />\n	Tuesday\, March 13\, 2012 6:15 pm - 8:15 pm<br />\n	<br />\n	Its FREE and everyone is invited!<br />\n	<br />\n	<span style="font-size: 14px"><span style="font-size: 12px">It&nbsp\;offers a wealth of information that is not available to most retail business owners.<br />\n	<br />\n	Welcome will be at the Reidsville Chamber of Commerce at 112 Settle Street\, then will move to other downtown locations within approximately&nbsp\;one block.<br />\n	<br />\n	Please register at <a href="mailto:rdc@ci.reidsville.nc.us">rdc@ci.reidsville.nc.us</a> OR 336.347.2307</span></span><br />\n	<br />\n	&nbsp\;</p>\n
LOCATION:112 Settle Street\, Reidsville\, NC
UID:e.111.2158
SEQUENCE:3
DTSTAMP:20260421T130421Z
URL:https://business.reidsvillechamber.org/events/details/downtown-reidsville-visual-merchandising-workshop-03-13-2012-2158
END:VEVENT

END:VCALENDAR
