BEGIN:VCALENDAR
VERSION:2.0
PRODID:-//ChamberMaster//Event Calendar 2.0//EN
METHOD:PUBLISH
X-PUBLISHED-TTL:P3D
REFRESH-INTERVAL:P3D
CALSCALE:GREGORIAN
BEGIN:VEVENT
DTSTART:20110320T220000Z
DTEND:20110321T000000Z
X-MICROSOFT-CDO-ALLDAYEVENT:FALSE
SUMMARY:DOYLE DYKES in concert - hosted by Baptist Temple Church
DESCRIPTION:Doyle Dykes had travelled around the world with artists like The Stamps Quartet\, and Grand Ole Opry star Grandpa Jones. He currently represents Taylor Guitars at trade shows from California to Nashville to England\, Ireland and Germany.  Doyle's music will make a lasting impression on anyone given the opportunity to listen.  When the late Chet Atkins was asked by Vintage Guitar Magazine "... is there anybody out there that you personally would pay to go see?" Chet replied" People like Doyle Dykes\, who is just an amazing finger picker\, I think."
X-ALT-DESC;FMTTYPE=text/html:Doyle Dykes had travelled around the world with artists like The Stamps Quartet\, and Grand Ole Opry star Grandpa Jones. He currently represents Taylor Guitars at trade shows from California to Nashville to England\, Ireland and Germany.  Doyle's music will make a lasting impression on anyone given the opportunity to listen.  When the late Chet Atkins was asked by Vintage Guitar Magazine "... is there anybody out there that you personally would pay to go see?" Chet replied" People like Doyle Dykes\, who is just an amazing finger picker\, I think." 
LOCATION:Baptist Temple Church 729 Wentworth Street
UID:e.111.1883
SEQUENCE:3
DTSTAMP:20260423T195446Z
URL:https://business.reidsvillechamber.org/events/details/doyle-dykes-in-concert-hosted-by-baptist-temple-church-03-20-2011-1883
END:VEVENT

END:VCALENDAR
