BEGIN:VCALENDAR
VERSION:2.0
PRODID:-//ChamberMaster//Event Calendar 2.0//EN
METHOD:PUBLISH
X-PUBLISHED-TTL:P3D
REFRESH-INTERVAL:P3D
CALSCALE:GREGORIAN
BEGIN:VEVENT
DTSTART:20110909T163000Z
DTEND:20110909T173000Z
X-MICROSOFT-CDO-ALLDAYEVENT:FALSE
SUMMARY:Dr. Dalton-Bethea's "Conquering low back pain and leg pain in 2011" Seminar
DESCRIPTION:
X-ALT-DESC;FMTTYPE=text/html:
LOCATION:Belmont Pharmacy- 105 Professional Drive\, Reidsville
UID:e.111.1975
SEQUENCE:3
DTSTAMP:20260423T103916Z
URL:https://business.reidsvillechamber.org/events/details/dr-dalton-bethea-s-conquering-low-back-pain-and-leg-pain-in-2011-seminar-09-09-2011-1975
END:VEVENT

END:VCALENDAR
