BEGIN:VCALENDAR
VERSION:2.0
PRODID:-//ChamberMaster//Event Calendar 2.0//EN
METHOD:PUBLISH
X-PUBLISHED-TTL:P3D
REFRESH-INTERVAL:P3D
CALSCALE:GREGORIAN
BEGIN:VEVENT
DTSTART:20100118T130000Z
DTEND:20100119T023000Z
X-MICROSOFT-CDO-ALLDAYEVENT:FALSE
SUMMARY:Dr. Martin Luther King\, Jr. Unity Breakfast
DESCRIPTION:"Keeping the Dream Alive Through Unity"By understanding and working with each other The Twelth AnnualDr. Martin Luther King\, Jr.Unity Breakfast Sponsored by theReidsville Branch NAACPReidsville Chamber of CommerceReidsville Human Relations Commission Monday\, January 18\,  20098:00 a.m.Zion Baptist Church807 Piedmont Street Tickets available in advance only from members of each organization$8.00  Keynote speaker will be Dr. Rodney Shotwell\, Superintendent\, Rockingham County Schools
X-ALT-DESC;FMTTYPE=text/html:<div style="text-align: center">&quot\;<em>Keeping the Dream Alive Through Unity&quot\;</em></div><div style="text-align: center"><em>By understanding and working with each other</em></div><div style="text-align: center">&nbsp\;</div><div style="text-align: center"><span style="font-size: large">The Twelth Annual</span></div><div style="text-align: center"><span style="font-size: large">Dr. Martin Luther King\, Jr.</span></div><div style="text-align: center"><span style="font-size: large">Unity Breakfast</span></div><div style="text-align: center">&nbsp\;</div><div style="text-align: center"><span style="font-size: small">Sponsored by the</span></div><div style="text-align: center"><span style="font-size: small">Reidsville Branch NAACP</span></div><div style="text-align: center"><span style="font-size: small">Reidsville Chamber of Commerce</span></div><div style="text-align: center"><span style="font-size: small">Reidsville Human Relations Commission</span></div><div style="text-align: center">&nbsp\;</div><div style="text-align: center"><span style="font-size: small">Monday\, January 18\,&nbsp\; 2009</span></div><div style="text-align: center"><span style="font-size: small">8:00 a.m.</span></div><div style="text-align: center"><span style="font-size: small">Zion Baptist Church</span></div><div style="text-align: center"><span style="font-size: small">807 Piedmont Street</span></div><div style="text-align: center">&nbsp\;</div><div style="text-align: center"><span style="font-size: small">Tickets available in advance only from members of each organization</span></div><div style="text-align: center"><span style="font-size: small">$8.00 </span></div><div style="text-align: center">&nbsp\;</div><div style="text-align: center"><span style="font-size: small"><em>Keynote speaker will be Dr. Rodney Shotwell\, Superintendent\, Rockingham County Schools</em></span></div>
LOCATION:Zion Baptist Church807 Piedmont StreetReidsville
UID:e.111.1282
SEQUENCE:3
DTSTAMP:20260424T201834Z
URL:https://business.reidsvillechamber.org/events/details/dr-martin-luther-king-jr-unity-breakfast-01-18-2010-1282
END:VEVENT

END:VCALENDAR
