BEGIN:VCALENDAR
VERSION:2.0
PRODID:-//ChamberMaster//Event Calendar 2.0//EN
METHOD:PUBLISH
X-PUBLISHED-TTL:P3D
REFRESH-INTERVAL:P3D
CALSCALE:GREGORIAN
BEGIN:VEVENT
DTSTART:20111130T140000Z
DTEND:20111130T220000Z
X-MICROSOFT-CDO-ALLDAYEVENT:FALSE
SUMMARY:Drop by First Citizens Bank to wish Fred Timper well in his retirement
DESCRIPTION:Fred Timper\, after 39 years of service with First Citizens Bank has decided to spend more time at home with his wife Jane and to "Go Fishing"!!!\n\n\n\nPlease join the Reidsville Chamber in wishing Fred well in his retirement!
X-ALT-DESC;FMTTYPE=text/html:Fred Timper\, after 39 years of service with First Citizens Bank has decided to spend more time at home with his wife Jane and to &quot\;Go Fishing&quot\;!!!<br />\n<br />\nPlease join the&nbsp\;Reidsville Chamber in wishing Fred well in his retirement!
LOCATION:First Citizens Bank 501 S. Main Street Reidsville\, NC 27320
UID:e.111.2095
SEQUENCE:3
DTSTAMP:20260421T193055Z
URL:https://business.reidsvillechamber.org/events/details/drop-by-first-citizens-bank-to-wish-fred-timper-well-in-his-retirement-11-30-2011-2095
END:VEVENT

END:VCALENDAR
