BEGIN:VCALENDAR
VERSION:2.0
PRODID:-//ChamberMaster//Event Calendar 2.0//EN
METHOD:PUBLISH
X-PUBLISHED-TTL:P3D
REFRESH-INTERVAL:P3D
CALSCALE:GREGORIAN
BEGIN:VEVENT
DTSTART:20100915T190000Z
DTEND:20100915T203000Z
X-MICROSOFT-CDO-ALLDAYEVENT:FALSE
SUMMARY:E-mail Marketing and Social Media Seminar
DESCRIPTION:Take Your Marketing Plan Into The Digital Age Join the Chamber's Young Professionals and Women in Business Forums on September 15th\, 2010 for an information packed seminar on e-mail marketing and social media. Learn the ins and outs of effective\, strategic e-mail marketing including techniques to retain and grow your customer base. Gain the knowledge to tap into cyberspace's super highway of social media and watch as your marketing audience increases exponentially.  This outstanding seminar\, lead by Anissa Starnes of Constant Contact\, will introduce the beginner to the basics of successful email marketing\, as well as provide experienced professionals with valuable tips to get the most out of your contacts and build stronger customer relationships. Anissa brings with her a wealth of knowledge regarding email marketing and social media   and will show you how this impacts every business\, including yours. This seminar is free to Chamber members\, though a nominal fee of $15 will apply to non-members. Registering is easy   just call the Chamber office at 336-349-8481\, email us at info@reidsvillechamber.org\, or log onto the Chamber's website at www.reidsvillechamber.org to register online from our event page. Seminar will be held at the Chamber Offices112 Settle Street (across from Market Square)
X-ALT-DESC;FMTTYPE=text/html:<div style="text-align: center"><span style="font-size: medium"><div style="margin: 0in 0in 0pt" align="center">Take Your Marketing Plan Into The Digital Age</div><div style="margin: 0in 0in 0pt">&nbsp\;</div><div style="margin: 0in 0in 0pt">Join the Chamber&rsquo\;s Young Professionals and Women in Business Forums on September 15<sup>th</sup>\, 2010 for an information packed seminar on e-mail marketing and social media.&nbsp\;Learn the ins and outs of effective\, strategic e-mail marketing including techniques to retain and grow your customer base.&nbsp\;Gain the knowledge to tap into cyberspace&rsquo\;s super highway of social media and watch as your marketing audience increases exponentially.&nbsp\;</div><div style="margin: 0in 0in 0pt">&nbsp\;</div><div style="margin: 0in 0in 0pt">This outstanding seminar\, lead by Anissa Starnes of Constant Contact\, will introduce the beginner to the basics of successful email marketing\, as well as provide experienced professionals with valuable tips to get the most out of your contacts and build stronger customer relationships.&nbsp\;Anissa brings with her a wealth of knowledge regarding email marketing and social media &ndash\; and will show you how this impacts every business\, including yours.</div><div style="margin: 0in 0in 0pt">&nbsp\;</div><div style="margin: 0in 0in 0pt">This seminar is free to Chamber members\, though a nominal fee of $15 will apply to non-members.&nbsp\;Registering is easy &ndash\; just call the Chamber office at 336-349-8481\, email us at <a href="mailto:info@reidsvillechamber.org">info@reidsvillechamber.org</a>\, or log onto the Chamber&rsquo\;s website at <a href="http://www.reidsvillechamber.org/"><font color="#800080">www.reidsvillechamber.org</font></a> to register online from our event page.</div></span></div><div style="text-align: center">&nbsp\;</div><div style="text-align: center"><span style="font-size: large"><span style="font-size: medium">Seminar will be held at the Chamber Offices</span></span></div><div style="text-align: center"><span style="font-size: large"><span style="font-size: medium">112 Settle Street (across from Market Square)</span></span></div><div style="text-align: center">&nbsp\;</div>
LOCATION:
UID:e.111.1488
SEQUENCE:3
DTSTAMP:20260424T053440Z
URL:https://business.reidsvillechamber.org/events/details/e-mail-marketing-and-social-media-seminar-09-15-2010-1488
END:VEVENT

END:VCALENDAR
