BEGIN:VCALENDAR
VERSION:2.0
PRODID:-//ChamberMaster//Event Calendar 2.0//EN
METHOD:PUBLISH
X-PUBLISHED-TTL:P3D
REFRESH-INTERVAL:P3D
CALSCALE:GREGORIAN
BEGIN:VEVENT
DTSTART:20110406T123000Z
DTEND:20110406T143000Z
X-MICROSOFT-CDO-ALLDAYEVENT:FALSE
SUMMARY:Early Education: You've Got An Economic Stake in this Issue with Bill Millett
DESCRIPTION:Click Here for Event Flyer!\n\n	\n\n	The Rockingham County Partnership for Children\,\n\n	the Eden Chamber of Commerce\,\n\n	the Reidsville Chamber of Commerce and\n\n	the Western Rockingham Chamber of Commerce\n\n	present\n\n	\n\n	Quality Early Education:\n\n	You've Got an Economic Stake in this Issue\n\n	\n\n	with\n\n	Bill Millett\, President\n\n	Scope View Strategic Advantage\n\n	\n\n	Wednesday\, April 6\, 2011\n\n	8:30am\n\n	\n\n	Agricultural Extension Building\, Wentworth\n\n	525 NC Hwy 65\, Wentworth\n\n	\n\n	A light breakfast will be served.\n\n	\n\n	There is no cost to attend but for planning purposes please RSVP to the\n\n	Rockingham County Partnership for Children\, 342-9676 or amberc@rockinghamkids.org.\n\n	\n\n	Keynote speaker Bill Millett is a strong advocate of investment in early care and education as an influencing factor on future success and global competitiveness. His presentation will address why quality early education should matter to all of us and will highlight the strong link between quality early education and the long-term economic vitality of Rockingham County\, our state and our nation. He brings to his work over 25 years of economic development experience and leadership in a variety of businesses and organizations.
X-ALT-DESC;FMTTYPE=text/html:<p style="text-align: center\;">\n	<span style="font-size: 16px\;"><strong><span style="font-family: colonnamt\,sans-serif\;"><span style="color: rgb(0\, 88\, 0)\;"><em><a href="http://cloud.chambermaster.com/userfiles/UserFiles/chambers/111/File/RCPC%20-%20flyer%20(4-6%20event).pdf"><br />\n	Click Here for Event Flyer!</a></em></span></span></strong></span><br />\n	<br />\n	The Rockingham County Partnership for Children\,<br />\n	the Eden Chamber of Commerce\,<br />\n	the Reidsville Chamber of Commerce and<br />\n	the Western Rockingham Chamber of Commerce<br />\n	present<br />\n	<br />\n	Quality Early Education:<br />\n	You&rsquo\;ve Got an Economic Stake in this Issue<br />\n	<br />\n	with<br />\n	Bill Millett\, President<br />\n	Scope View Strategic Advantage<br />\n	<br />\n	Wednesday\, April 6\, 2011<br />\n	8:30am<br />\n	<br />\n	Agricultural Extension Building\, Wentworth<br />\n	525 NC Hwy 65\, Wentworth<br />\n	<br />\n	A light breakfast will be served.<br />\n	<br />\n	There is no cost to attend but for planning purposes please RSVP to the<br />\n	Rockingham County Partnership for Children\, 342-9676 or amberc@rockinghamkids.org.<br />\n	<br />\n	Keynote speaker Bill Millett is a strong advocate of investment in early care and education as an influencing factor on future success and global competitiveness. His presentation will address why quality early education should matter to all of us and will highlight the strong link between quality early education and the long-term economic vitality of Rockingham County\, our state and our nation. He brings to his work over 25 years of economic development experience and leadership in a variety of businesses and organizations.<br />\n	<br />\n	&nbsp\;</p>\n
LOCATION:Agricultural Extension Building (525 NC Hwy 65\, Wentworth)
UID:e.111.1597
SEQUENCE:3
DTSTAMP:20260423T182634Z
URL:https://business.reidsvillechamber.org/events/details/early-education-you-ve-got-an-economic-stake-in-this-issue-with-bill-millett-04-06-2011-1597
END:VEVENT

END:VCALENDAR
