BEGIN:VCALENDAR
VERSION:2.0
PRODID:-//ChamberMaster//Event Calendar 2.0//EN
METHOD:PUBLISH
X-PUBLISHED-TTL:P3D
REFRESH-INTERVAL:P3D
CALSCALE:GREGORIAN
BEGIN:VEVENT
DTSTART:20120417T120000Z
DTEND:20120417T120000Z
X-MICROSOFT-CDO-ALLDAYEVENT:FALSE
SUMMARY:Early Literacy: Successful Futures Literally Start Here
DESCRIPTION:Rockingham County Partnership for Children\,\n\n	the Rockingham County Education Foundation\,\n\n	the Eden Chamber of Commerce\,\n\n	the Reidsville Chamber of Commerce\, and\n\n	the Western Rockingham Chamber of Commerce\n\n	present\n\n	\n\n	Early Literacy: Successful Futures\n\n	Literally Start Here\n\n	\n\n	Click Here to view flyer\n\n	\n\n	with\n\n	\n\n	Bill Millett\, President\n\n	Scope View Strategic Advantage\n\n	\n\n	Tuesday\, April 17\, 2012\n\n	8:00 am\n\n	\n\n	Agricultural Extension Building\, Wentworth\n\n	525 NC HWY 65\, Wentworth\n\n	\n\n	A light breafkfast will be served.\n\n	\n\n	There is no cost to attend but for planning purposes please RSVP\n\n	to the Rockingham County Partnership for Children\,\n\n	342-9676 or amber@rockinghamkids.
X-ALT-DESC;FMTTYPE=text/html:<p style="text-align: center">\n	<span style="font-family: verdana"><span style="font-size: 10px"><span style="font-size: 11px">Rockingham County Partnership for Children\,<br />\n	the Rockingham County Education Foundation\,<br />\n	the Eden Chamber of Commerce\,<br />\n	the Reidsville Chamber of Commerce\, and<br />\n	the Western Rockingham Chamber of Commerce<br />\n	present<br />\n	<br />\n	<strong><span style="font-size: 14px">Early Literacy: Successful Futures<br />\n	Literally Start Here<br />\n	<br />\n	<a href="http://cloud.chambermaster.com/userfiles/UserFiles/chambers/111/File/EarlyLiteracyFlyer.pdf">Click Here</a>&nbsp\;to view flyer</span></strong><br />\n	<br />\n	<span style="font-size: 14px"><span style="font-size: 12px">with<br />\n	<br />\n	<span style="font-size: 14px">Bill Millett\, President<br />\n	Scope View Strategic Advantage<br />\n	<br />\n	<strong>Tuesday\, April 17\, 2012<br />\n	8:00 am<br />\n	<br />\n	Agricultural Extension Building\, Wentworth</strong><br />\n	<span style="font-size: 12px">525 NC </span><span style="font-size: 12px">HWY 65\, Wentworth<br />\n	<br />\n	<strong>A light breafkfast will be served.</strong><br />\n	<br />\n	There is no cost to attend but for planning purposes please RSVP<br />\n	to the Rockingham County Partnership for Children\,<br />\n	342-9676 or amber@rockinghamkids.</span></span></span></span></span></span></span></p>\n
LOCATION:
UID:e.111.2189
SEQUENCE:3
DTSTAMP:20260421T130846Z
URL:https://business.reidsvillechamber.org/events/details/early-literacy-successful-futures-literally-start-here-04-17-2012-2189
END:VEVENT

END:VCALENDAR
