BEGIN:VCALENDAR
VERSION:2.0
PRODID:-//ChamberMaster//Event Calendar 2.0//EN
METHOD:PUBLISH
X-PUBLISHED-TTL:P3D
REFRESH-INTERVAL:P3D
CALSCALE:GREGORIAN
BEGIN:VEVENT
DTSTART:20110424T173000Z
DTEND:20110424T190000Z
X-MICROSOFT-CDO-ALLDAYEVENT:FALSE
SUMMARY:Easter Egg Hunt at Chinqua - Penn Plantation
DESCRIPTION:Annual Easter Egg hunt.  Hunt for eggs at Beautiful Chinqua Penn.  Over 1000 will be hid for two age groups (3-6) and (7-10).  Find the Golden Egg and egg races for prizes.  Hunt starts promptly at 1:30.
X-ALT-DESC;FMTTYPE=text/html:Annual Easter Egg hunt.  Hunt for eggs at Beautiful Chinqua Penn.  Over 1000 will be hid for two age groups (3-6) and (7-10).  Find the Golden Egg and egg races for prizes.  Hunt starts promptly at 1:30.
LOCATION:2138 Wentworth Street\, Reidsville NC 27028
UID:e.111.1609
SEQUENCE:3
DTSTAMP:20260423T182212Z
URL:https://business.reidsvillechamber.org/events/details/easter-egg-hunt-at-chinqua-penn-plantation-04-24-2011-1609
END:VEVENT

END:VCALENDAR
