BEGIN:VCALENDAR
VERSION:2.0
PRODID:-//ChamberMaster//Event Calendar 2.0//EN
METHOD:PUBLISH
X-PUBLISHED-TTL:P3D
REFRESH-INTERVAL:P3D
CALSCALE:GREGORIAN
BEGIN:VEVENT
DTSTART:20120404T123000Z
DTEND:20120404T140000Z
X-MICROSOFT-CDO-ALLDAYEVENT:FALSE
SUMMARY:Eat. Learn. Network. Topic: Health Literacy
DESCRIPTION:Health Literacy\n\n	\n\n	Eat. Learn. Network.\n\n	Topic: Health Literacy\n\n	\n\n	Presented by Jen Kimbrough\,\n\n	Guilford Coalition on Adolescent Pregnancy\n\n	Prevention\n\n	\n\n	Wednesday\, April 4th\, 2012\n\n	8:30 am - 10:00 am\n\n	Hosted by Young Moms Connect\, RCPC\n\n	Cooperative Extension Building\, Large Conference Room\n\n	\n\n	RSVP to Dawn Charaba\, at 342-9676 or\n\n	dawnc@rockinghamkids.org
X-ALT-DESC;FMTTYPE=text/html:<p style="text-align: center">\n	<span style="font-size: 11pt"><span style="font-family: calibri\,sans-serif">&nbsp\;Health Literacy<br />\n	<br />\n	Eat. Learn. Network.<br />\n	Topic: Health Literacy<br />\n	<br />\n	Presented by Jen Kimbrough\,<br />\n	Guilford Coalition on Adolescent Pregnancy<br />\n	Prevention<br />\n	<br />\n	Wednesday\, April 4th\, 2012<br />\n	8:30 am - 10:00 am<br />\n	Hosted by Young Moms Connect\, RCPC<br />\n	Cooperative Extension Building\, Large Conference Room<br />\n	<br />\n	RSVP to Dawn Charaba\, at 342-9676 or<br />\n	<a href="mailto:dawnc@rockinghamkids.org">dawnc@rockinghamkids.org</a></span></span></p>\n
LOCATION:
UID:e.111.2186
SEQUENCE:3
DTSTAMP:20260421T113639Z
URL:https://business.reidsvillechamber.org/events/details/eat-learn-network-topic-health-literacy-04-04-2012-2186
END:VEVENT

END:VCALENDAR
