BEGIN:VCALENDAR
VERSION:2.0
PRODID:-//ChamberMaster//Event Calendar 2.0//EN
METHOD:PUBLISH
X-PUBLISHED-TTL:P3D
REFRESH-INTERVAL:P3D
CALSCALE:GREGORIAN
BEGIN:VEVENT
DTSTART;VALUE=DATE:20110809
DTEND;VALUE=DATE:20110810
TRANSP:TRANSPARENT
X-MICROSOFT-CDO-ALLDAYEVENT:TRUE
SUMMARY:Eat Out....Help Out for Meals on Wheels a service of ADTS
DESCRIPTION:On Tuesday\, August 9 the restaurants below will donate 10% of their total sales to Meals on Wheels\n\nto help fight hunger in Rockingham County. Join with us on August 9 and be a part of Eat Out...Help Out.\n\n\n\nEDEN: Cohen's\, Elizabeth's\, Santana's at Oak Hill\, Whistle Jacket\n\nMADISON: Golden Dragon\, The Lunch Box\,\n\nREIDSVILLE: Carolina Caf'e\n\nWENTWORTH: Elizabeth's
X-ALT-DESC;FMTTYPE=text/html:On Tuesday\, August 9 the restaurants below will donate 10% of their total sales to Meals on Wheels<br />\nto help fight hunger in Rockingham County. Join with us on August 9 and be a part of Eat Out...Help Out.<br />\n<br />\nEDEN: Cohen&#39\;s\, Elizabeth&#39\;s\, Santana&#39\;s at Oak Hill\, Whistle Jacket<br />\nMADISON: Golden Dragon\, The Lunch Box\,<br />\nREIDSVILLE: Carolina Caf&#39\;e<br />\nWENTWORTH: Elizabeth&#39\;s<br />\n
LOCATION:
UID:e.111.1970
SEQUENCE:3
DTSTAMP:20260423T135228Z
URL:https://business.reidsvillechamber.org/events/details/eat-out-help-out-for-meals-on-wheels-a-service-of-adts-08-09-2011-1970
END:VEVENT

END:VCALENDAR
