BEGIN:VCALENDAR
VERSION:2.0
PRODID:-//ChamberMaster//Event Calendar 2.0//EN
METHOD:PUBLISH
X-PUBLISHED-TTL:P3D
REFRESH-INTERVAL:P3D
CALSCALE:GREGORIAN
BEGIN:VEVENT
DTSTART;VALUE=DATE:20120327
DTEND;VALUE=DATE:20120328
TRANSP:TRANSPARENT
X-MICROSOFT-CDO-ALLDAYEVENT:TRUE
SUMMARY:Eat Out...Help Out\, Help for services provided by ADTS
DESCRIPTION:Click Here for Press Release\n\n	\n\n	This is a great opportunity for our restaurants to help raise money while hosting many diners who want to enjoy their food while donating to a worthy cause\n\n	\n\n	Click Here Restaurant Packet\n\n	\n\n	 Click Here for Corporate Sponsorship Info
X-ALT-DESC;FMTTYPE=text/html:<p>\n	<a href="http://cloud.chambermaster.com/userfiles/UserFiles/chambers/111/File/PressreleaseEOHOrestaurantrecruiting20122.docx">Click Here for Press Release</a><br />\n	<br />\n	This is a great opportunity for our restaurants to help raise money while hosting many diners who want to enjoy their food while donating to a worthy cause<br />\n	<br />\n	<a href="http://cloud.chambermaster.com/userfiles/UserFiles/chambers/111/File/Restaurant%20Participation%20Packet.pdf">Click Here Restaurant Packet</a><br />\n	<br />\n	&nbsp\;<a href="http://cloud.chambermaster.com/userfiles/UserFiles/chambers/111/File/Corporate_BusinessSponsorpacket20122.txt">Click Here for Corporate Sponsorship Info</a></p>\n
LOCATION:
UID:e.111.2147
SEQUENCE:3
DTSTAMP:20260421T130414Z
URL:https://business.reidsvillechamber.org/events/details/eat-out-help-out-help-for-services-provided-by-adts-03-27-2012-2147
END:VEVENT

END:VCALENDAR
