BEGIN:VCALENDAR
VERSION:2.0
PRODID:-//ChamberMaster//Event Calendar 2.0//EN
METHOD:PUBLISH
X-PUBLISHED-TTL:P3D
REFRESH-INTERVAL:P3D
CALSCALE:GREGORIAN
BEGIN:VEVENT
DTSTART:20120419T160000Z
DTEND:20120419T160000Z
X-MICROSOFT-CDO-ALLDAYEVENT:FALSE
SUMMARY:Eco Logical Art
DESCRIPTION:RockinghamCountyArts Council \n\nDan River Art Market & Gallery invites Rockingham County Middle School-age Art Students to participate in our exhibit to celebrate art with a Re-Purpose! \n\n \n\nApril 19-May 31                    Eco Logical Art\n\nReception April 19\, 5-7pm\n\n \n\n \n\nIn Celebration of Earth Day\, re-use and re-cycle awareness pleases join us in an exhibit of up-fitted and repurposed art and craft!\n\n \n\nHere are the details!\n\n \n\nWe invite 2-d and 3-d work from middle-school age students in all media\, particularly with recycle and earth day in mind. We encourage you to use your imagination! Consider jewelry from found objects\, sculptures\, costume and wearable art\, collage and mosaic.  Use plants in your artwork\, wind to power it\, photography of environmental topics\, and a PowerPoint presentation to make your statement.\n\n \n\nSubmission requirements\n\nPlease have all submissions to the Arts Council by Friday\, April 13. There is no entry fee. We do have limited space and will accept up to 3 pieces by each artist. \n\n \n\nSubmitted work requires the following information:\n\nArtist's name\n\nTitle of work\n\nMedia\n\nBrief statement on the artwork (up to 50 words)\n\nSchool you attend\n\nSaleprice or NFS (not for sale)\n\nWork may be picked up Monday\, April 2\, and Thursday April 5 or by appointment.\n\n \n\nQuestions? Contact the Rockingham County Arts Council\n\nKathryn Gauldin\, Executive Director\n\ndirector@artsinrockingham.org\n\n336.349.4039\n\n \n\nRCAC is the focal point/umbrella organization for the arts and information about the arts in Rockingham County. Our mission is to nurture and enrich the cultural life in Rockingham County.
X-ALT-DESC;FMTTYPE=text/html:<span style="font-size: 14pt"><span style="font-family: candara\,sans-serif">Rockingham</span></span><span style="font-size: 14pt"><span style="font-family: candara\,sans-serif">County</span></span><span style="font-size: 14pt"><span style="font-family: candara\,sans-serif">Arts</span></span><span style="font-size: 14pt"><span style="font-family: candara\,sans-serif"> Council </span></span><br />\n<span style="font-size: 14pt"><span style="font-family: candara\,sans-serif">Dan River Art Market &amp\; Gallery invites Rockingham County Middle School-age Art Students to participate in our exhibit to celebrate art with a Re-Purpose</span></span><span style="font-family: candara\,sans-serif"><span style="font-size: medium">! </span></span><br />\n&nbsp\;<br />\n<strong><span style="font-size: 14pt"><span style="font-family: candara\,sans-serif">April 19-May 31</span></span></strong>&nbsp\;&nbsp\;&nbsp\;&nbsp\;&nbsp\;&nbsp\;&nbsp\;&nbsp\;&nbsp\;&nbsp\;&nbsp\;&nbsp\;&nbsp\;&nbsp\;&nbsp\;&nbsp\; <span style="font-size: 48pt"><span style="color: green"><span style="font-family: boulder"><span style="font-family: cambria">&nbsp\;&nbsp\;&nbsp\;Eco </span></span></span></span><span style="font-size: 28pt"><span style="font-family: candara\,sans-serif">Logical </span></span><span style="font-size: 50pt"><span style="font-family: boulder"><span style="font-family: cambria">Art</span></span></span><br />\n<strong><em><span style="font-family: candara\,sans-serif"><span style="font-size: medium">Reception April 19\, 5-7pm</span></span></em></strong><br />\n&nbsp\;<br />\n&nbsp\;<br />\n<span style="font-family: candara\,sans-serif"><span style="font-size: medium">In Celebration of Earth Day\, re-use and re-cycle awareness pleases join us in an exhibit of up-fitted and repurposed art and craft!</span></span><br />\n&nbsp\;<br />\n<span style="font-family: candara\,sans-serif"><span style="font-size: medium">Here are the details!</span></span><br />\n&nbsp\;<br />\n<span style="font-family: candara\,sans-serif"><span style="font-size: medium">We invite 2-d and 3-d work from middle-school age students in all media\, particularly with recycle and earth day in mind. We encourage you to use your imagination! Consider jewelry from found objects\, sculptures\, costume and wearable art\, collage and mosaic.&nbsp\; Use plants in your artwork\, wind to power it\, photography of environmental topics\, and a PowerPoint presentation to make your statement.</span></span><br />\n&nbsp\;<br />\n<strong><span style="font-family: candara\,sans-serif"><span style="font-size: medium">Submission requirements</span></span></strong><br />\n<span style="font-family: candara\,sans-serif"><span style="font-size: medium">Please have all submissions to the Arts Council by Friday\, April 13. There is no entry fee. We do have limited space and will accept up to 3 pieces by each artist. </span></span><br />\n&nbsp\;<br />\n<strong><span style="font-family: candara\,sans-serif"><span style="font-size: medium">Submitted work requires the following information:</span></span></strong><br />\n<span style="font-family: candara\,sans-serif"><span style="font-size: medium">Artist&rsquo\;s name</span></span><br />\n<span style="font-family: candara\,sans-serif"><span style="font-size: medium">Title of work</span></span><br />\n<span style="font-family: candara\,sans-serif"><span style="font-size: medium">Media</span></span><br />\n<span style="font-family: candara\,sans-serif"><span style="font-size: medium">Brief statement on the artwork (up to 50 words)</span></span><br />\n<span style="font-family: candara\,sans-serif"><span style="font-size: medium">School you attend</span></span><br />\n<span style="font-size: medium"><span style="font-family: candara\,sans-serif">Sale</span></span><span style="font-family: candara\,sans-serif">price</span><span style="font-family: candara\,sans-serif"> or NFS (not for sale)</span><br />\n<span style="font-family: candara\,sans-serif"><span style="font-size: medium">Work may be picked up Monday\, April 2\, and Thursday April 5 or by appointment.</span></span><br />\n&nbsp\;<br />\n<span style="font-family: candara\,sans-serif"><span style="font-size: medium">Questions? Contact the Rockingham County Arts Council</span></span><br />\n<span style="font-family: candara\,sans-serif"><span style="font-size: medium">Kathryn Gauldin\, Executive Director</span></span><br />\n<span style="font-family: candara\,sans-serif"><span style="font-family: candara\,sans-serif"><a href="mailto:director@artsinrockingham.org"><span style="font-size: medium"><span style="color: #0000ff">director@artsinrockingham.org</span></span></a></span></span><br />\n<span style="font-family: candara\,sans-serif"><span style="font-size: medium">336.349.4039</span></span><br />\n&nbsp\;<br />\n<em><span style="font-size: 11pt"><span style="font-family: calibri\,sans-serif">RCAC is the focal point/umbrella organization for the arts and information about the arts in Rockingham County. Our mission is to nurture and enrich the cultural life in Rockingham County.</span></span></em><br />\n
LOCATION:
UID:e.111.2177
SEQUENCE:3
DTSTAMP:20260421T113309Z
URL:https://business.reidsvillechamber.org/events/details/eco-logical-art-04-19-2012-2177
END:VEVENT

END:VCALENDAR
