BEGIN:VCALENDAR
VERSION:2.0
PRODID:-//ChamberMaster//Event Calendar 2.0//EN
METHOD:PUBLISH
X-PUBLISHED-TTL:P3D
REFRESH-INTERVAL:P3D
CALSCALE:GREGORIAN
BEGIN:VEVENT
DTSTART;VALUE=DATE:20110630
DTEND;VALUE=DATE:20110701
TRANSP:TRANSPARENT
X-MICROSOFT-CDO-ALLDAYEVENT:TRUE
SUMMARY:Educational Seminar
DESCRIPTION:Join Dr. Stanley Harrison\, Orthopedic Surgeon\, as he discusses\, what's new in Total Joint  Replacement.  The session will be held on Thursday\, June 30\, at 5:30pm\, in the Annie Penn Hospital Cafeteria.  The session is free\, and the public is invited.  To register\, call 336-832-8000\, or go to www.conehealth.com.  Under online tools click on Classes and support groups
X-ALT-DESC;FMTTYPE=text/html:<p>\n	Join Dr. Stanley Harrison\, Orthopedic Surgeon\, as he discusses\, what&#39\;s new in Total Joint&nbsp\; Replacement.&nbsp\; The session will be held on Thursday\, June 30\, at 5:30pm\, in the Annie Penn Hospital Cafeteria.&nbsp\; The session is free\, and the public is invited.&nbsp\; To register\, call 336-832-8000\, or go to <a href="http://www.conehealth.com">www.conehealth.com</a>.&nbsp\; Under online tools click on Classes and support groups</p>\n
LOCATION:
UID:e.111.1934
SEQUENCE:3
DTSTAMP:20260423T151658Z
URL:https://business.reidsvillechamber.org/events/details/educational-seminar-06-30-2011-1934
END:VEVENT

END:VCALENDAR
