BEGIN:VCALENDAR
VERSION:2.0
PRODID:-//ChamberMaster//Event Calendar 2.0//EN
METHOD:PUBLISH
X-PUBLISHED-TTL:P3D
REFRESH-INTERVAL:P3D
CALSCALE:GREGORIAN
BEGIN:VEVENT
DTSTART:20101030T133000Z
DTEND:20101030T180000Z
X-MICROSOFT-CDO-ALLDAYEVENT:FALSE
SUMMARY:Electronics Recycling Day -- Rockingham County Government
DESCRIPTION:Rockingham County Government\n\n	Electronics Recycling Day\n\n	Recycle your Used Electronics FREE!\n\n	Do you have an old PC\, television\, stereo\, or other unused electronic equipment?  Here's your chance to get rid of it!\n\n	\n\n	Saturday\, October 30th  9:30 a.m. til 2:00 p.m.\n\n	Governmental Center Parking Lot\n\n	371 NC Hwy 65\, Wentworth\, NC\n\n	\n\n	We'll accept:  Computers\, VCR's\, Radios\, Console and Portable TV's\, Tape Players\, Small Appliances\, Stereo Components (*RESIDENTIAL only)\n\n	\n\n	*Up to 3 or any item accepted without fee\n\n	\n\n	Contact 427-5421 or 342-8300 for additional information
X-ALT-DESC;FMTTYPE=text/html:<p style="text-align: center\;">\n	<span style="font-family: times new roman\;"><em><span style="font-size: 16px\;">Rockingham County Government</span></em><br />\n	<span style="color: rgb(0\, 0\, 255)\;"><strong><span style="font-size: 22px\;">Electronics Recycling Day</span></strong></span><br />\n	<span style="font-size: 16px\;">Recycle your Used Electronics <strong>FREE</strong>!</span></span></p>\n<p style="text-align: center\;">\n	<span style="font-family: times new roman\;">Do you have an old PC\, television\, stereo\, or other unused electronic equipment?&nbsp\; Here&#39\;s your chance to get rid of it!<br />\n	<br />\n	<span style="font-size: 18px\;"><strong><span style="background-color: rgb(255\, 255\, 0)\;">Saturday\, October 30th&nbsp\; 9:30 a.m. til 2:00 p.m.</span></strong></span><br />\n	<span style="font-size: 16px\;">Governmental Center Parking Lot<br />\n	371 NC Hwy 65\, Wentworth\, NC</span><br />\n	<br />\n	<em><strong>We&#39\;ll accept:&nbsp\; </strong></em>Computers\, VCR&#39\;s\, Radios\, Console and Portable TV&#39\;s\, Tape Players\, Small Appliances\, Stereo Components (<strong>*RESIDENTIAL only</strong>)<br />\n	<br />\n	<em>*Up to 3 or any item accepted without fee</em><br />\n	<br />\n	Contact 427-5421 or 342-8300 for additional information</span></p>\n
LOCATION:
UID:e.111.1530
SEQUENCE:3
DTSTAMP:20260424T035835Z
URL:https://business.reidsvillechamber.org/events/details/electronics-recycling-day-rockingham-county-government-10-30-2010-1530
END:VEVENT

END:VCALENDAR
