BEGIN:VCALENDAR
VERSION:2.0
PRODID:-//ChamberMaster//Event Calendar 2.0//EN
METHOD:PUBLISH
X-PUBLISHED-TTL:P3D
REFRESH-INTERVAL:P3D
CALSCALE:GREGORIAN
BEGIN:VEVENT
DTSTART:20251018T170000Z
DTEND:20251018T190000Z
X-MICROSOFT-CDO-ALLDAYEVENT:FALSE
SUMMARY:Let the Season Begin!
DESCRIPTION:"Let the Game Begin: A Battle of Titans"\n\nGet ready for an electrifying night of basketball as two powerhouse teams battle for supremacy on the hardwood. This isn't just a game\; it's a fierce competition where skill\, speed\, and heart collide in the most intense showdown of the season. Experience the thrill of the game as these titans of the court go head-to-head in a display of raw athleticism and determination.\n\nDon't miss your chance to be a part of basketball history and witness the ultimate showdown that will leave you on the edge of your seat. Purchase your tickets now and be a part of the excitement!\n\n \n\n**Get your tickets today and be part of the action!**
X-ALT-DESC;FMTTYPE=text/html:<h1><strong>"Let the Game Begin: A Battle of Titans"</strong></h1>\n\n<p>Get ready for an electrifying night of basketball as two powerhouse teams battle for supremacy on the hardwood. This isn't just a game\; it's a fierce competition where skill\, speed\, and heart collide in the most intense showdown of the season. Experience the thrill of the game as these titans of the court go head-to-head in a display of raw athleticism and determination.</p>\n\n<p>Don't miss your chance to be a part of basketball history and witness the ultimate showdown that will leave you on the edge of your seat. Purchase your tickets now and be a part of the excitement!</p>\n\n<p>&nbsp\;</p>\n\n<p>**Get your tickets today and be part of the action!**</p>\n\n<p>&nbsp\;</p>\n
LOCATION:Reidsville Recreational Center 201 N. Washington Ave Reidsville\, NC 27320
UID:e.111.10699
SEQUENCE:3
DTSTAMP:20260420T122751Z
URL:https://business.reidsvillechamber.org/events/details/epic-showdown-rivals-face-off-10699
END:VEVENT

END:VCALENDAR
