BEGIN:VCALENDAR
VERSION:2.0
PRODID:-//ChamberMaster//Event Calendar 2.0//EN
METHOD:PUBLISH
X-PUBLISHED-TTL:P3D
REFRESH-INTERVAL:P3D
CALSCALE:GREGORIAN
BEGIN:VEVENT
DTSTART:20120229T170000Z
DTEND:20120322T010000Z
X-MICROSOFT-CDO-ALLDAYEVENT:FALSE
SUMMARY:Event at Annie Penn Hospital
DESCRIPTION:Join Chef Raouti " Rudy' Benallal and learn how to prepare healthy\, delicious Southern cuisine. Watch him prepare healthy foods with a home-style flavor. He will demonstrate the art of preparation and cooking\, while offering helpful tips.\n\nFeatured menu: Shrimp\, sweet potato cake and kale
X-ALT-DESC;FMTTYPE=text/html:Join Chef Raouti &quot\; Rudy&#39\; Benallal and learn how to prepare healthy\, delicious Southern cuisine. Watch him prepare healthy foods with a home-style flavor. He will demonstrate the art of preparation and cooking\, while offering helpful tips.<br />\nFeatured menu: Shrimp\, sweet potato cake and kale<br />\n
LOCATION:Annie Penn Hospital WomanKind Center 4th floor
UID:e.111.2155
SEQUENCE:3
DTSTAMP:20260421T130813Z
URL:https://business.reidsvillechamber.org/events/details/event-at-annie-penn-hospital-02-29-2012-2155
END:VEVENT

END:VCALENDAR
