BEGIN:VCALENDAR
VERSION:2.0
PRODID:-//ChamberMaster//Event Calendar 2.0//EN
METHOD:PUBLISH
X-PUBLISHED-TTL:P3D
REFRESH-INTERVAL:P3D
CALSCALE:GREGORIAN
BEGIN:VEVENT
DTSTART:20110726T213000Z
DTEND:20110726T223000Z
X-MICROSOFT-CDO-ALLDAYEVENT:FALSE
SUMMARY:Event at Annie Penn Hospital
DESCRIPTION:FREE Educational Seminar on Female Health featuring Dr. John Ferguson\n\n\n\nMenstrual flow challenges affect women of all ages. Join John Ferguson\, MD\, an obstetrician and gynecologist with Family Tree Ob/Gyn\, as he discusses today's options for managing heavy periods. He also will provide as overview of female health.\n\nLecture is open to the Public and will be held in the Annie Penn Hospital Cafeteria. Registration is required: Please call 832.8000 to register or visit www.conehealth.com/classes.
X-ALT-DESC;FMTTYPE=text/html:FREE Educational Seminar on Female Health featuring Dr. John Ferguson<br />\n<br />\nMenstrual flow challenges affect women of all ages. Join John Ferguson\, MD\, an obstetrician and gynecologist with Family Tree Ob/Gyn\, as he discusses today&rsquo\;s options for managing heavy periods. He also will provide as overview of female health.<br />\nLecture is open to the Public and will&nbsp\;be held in the Annie Penn Hospital Cafeteria. Registration is required: Please call 832.8000 to register or visit www.conehealth.com/classes.<br />\n
LOCATION:Annie Penn Hospital Cafeteria
UID:e.111.1953
SEQUENCE:3
DTSTAMP:20260423T134925Z
URL:https://business.reidsvillechamber.org/events/details/event-at-annie-penn-hospital-07-26-2011-1953
END:VEVENT

END:VCALENDAR
