BEGIN:VCALENDAR
VERSION:2.0
PRODID:-//ChamberMaster//Event Calendar 2.0//EN
METHOD:PUBLISH
X-PUBLISHED-TTL:P3D
REFRESH-INTERVAL:P3D
CALSCALE:GREGORIAN
BEGIN:VEVENT
DTSTART:20110217T223000Z
DTEND:20110217T233000Z
X-MICROSOFT-CDO-ALLDAYEVENT:FALSE
SUMMARY:Event at Annie Penn Hospital Foundation
DESCRIPTION:Dr. Thomas Wall\, President of LeBauer HeartCare\, will be the guest lecturer at Annie Penn's first educational session to be held on Thursday\, February 17\, 2011\, at 5:30 pm in the Annie Penn Cafeteria.  Dr. Wall will be discussing risk factors\, prevention ideas\, and advances in treatment for heart patients.  The lecture is free and open to the public.  To register\, call 832-8000.
X-ALT-DESC;FMTTYPE=text/html:Dr. Thomas Wall\, President of LeBauer HeartCare\, will be the guest lecturer at Annie Penn's first educational session to be held on Thursday\, February 17\, 2011\, at 5:30 pm in the Annie Penn Cafeteria.  Dr. Wall will be discussing risk factors\, prevention ideas\, and advances in treatment for heart patients.  The lecture is free and open to the public.  To register\, call 832-8000.
LOCATION:Annie Penn Hospital Cafeteria
UID:e.111.1595
SEQUENCE:3
DTSTAMP:20260423T213230Z
URL:https://business.reidsvillechamber.org/events/details/event-at-annie-penn-hospital-foundation-02-17-2011-1595
END:VEVENT

END:VCALENDAR
