BEGIN:VCALENDAR
VERSION:2.0
PRODID:-//ChamberMaster//Event Calendar 2.0//EN
METHOD:PUBLISH
X-PUBLISHED-TTL:P3D
REFRESH-INTERVAL:P3D
CALSCALE:GREGORIAN
BEGIN:VEVENT
DTSTART;VALUE=DATE:20100215
DTEND;VALUE=DATE:20100216
TRANSP:TRANSPARENT
X-MICROSOFT-CDO-ALLDAYEVENT:TRUE
SUMMARY:Event at Belmont Pharmacy\, Inc.
DESCRIPTION:Keri Hilsinger\, Pharm D will be offering free blood pressure checks on Monday February 15th.
X-ALT-DESC;FMTTYPE=text/html:Keri Hilsinger\, Pharm D will be offering free blood pressure checks on Monday February 15th. \n<br>
LOCATION:Belmont Pharmacy
UID:e.111.1320
SEQUENCE:3
DTSTAMP:20260424T165316Z
URL:https://business.reidsvillechamber.org/events/details/event-at-belmont-pharmacy-inc-02-15-2010-1320
END:VEVENT

END:VCALENDAR
