BEGIN:VCALENDAR
VERSION:2.0
PRODID:-//ChamberMaster//Event Calendar 2.0//EN
METHOD:PUBLISH
X-PUBLISHED-TTL:P3D
REFRESH-INTERVAL:P3D
CALSCALE:GREGORIAN
BEGIN:VEVENT
DTSTART;VALUE=DATE:20100313
DTEND;VALUE=DATE:20100314
TRANSP:TRANSPARENT
X-MICROSOFT-CDO-ALLDAYEVENT:TRUE
SUMMARY:Event at Big Apple Farm Inc.
DESCRIPTION:Grand Remodeling Celebration!\n\nCheck out our Sale Prices from March 11- March 13\, then join us on Saturday\, March 13th\, beginning at 8:00 am\, Door Prizes which will be drawn hourly.  The prizes will include: Carhartt Clothing\, Wolverine Boots\, STIHL Weedeaters\, Club Cadet Push Mowers\, and Rocky Boots.  The Grand Prize Drawing\, for a 50" Aero Turn Mower by Cub Cadet will be held at 2:00 pm\,  you must be present to win. A Bluegrass Band will perform from 11 am - 1 pm\, for your entertainment.
X-ALT-DESC;FMTTYPE=text/html:Grand Remodeling Celebration!\n<br>Check out our Sale Prices from March 11- March 13\, then join us on Saturday\, March 13th\, beginning at 8:00 am\, Door Prizes which will be drawn hourly.  The prizes will include: Carhartt Clothing\, Wolverine Boots\, STIHL Weedeaters\, Club Cadet Push Mowers\, and Rocky Boots.  The Grand Prize Drawing\, for a 50" Aero Turn Mower by Cub Cadet will be held at 2:00 pm\,  you must be present to win. A Bluegrass Band will perform from 11 am - 1 pm\, for your entertainment.
LOCATION:Big Apple Farm Supply 407 Southwest Market Street
UID:e.111.1343
SEQUENCE:3
DTSTAMP:20260424T151746Z
URL:https://business.reidsvillechamber.org/events/details/event-at-big-apple-farm-inc-03-13-2010-1343
END:VEVENT

END:VCALENDAR
