BEGIN:VCALENDAR
VERSION:2.0
PRODID:-//ChamberMaster//Event Calendar 2.0//EN
METHOD:PUBLISH
X-PUBLISHED-TTL:P3D
REFRESH-INTERVAL:P3D
CALSCALE:GREGORIAN
BEGIN:VEVENT
DTSTART:20100318T140000Z
DTEND:20100318T160000Z
X-MICROSOFT-CDO-ALLDAYEVENT:FALSE
SUMMARY:Event at Carolina Apothecary\, Inc.
DESCRIPTION:FREE Leg Health Test- Vein Screening
X-ALT-DESC;FMTTYPE=text/html:FREE Leg Health Test- Vein Screening
LOCATION:Carolina Apothecary- Eden Location
UID:e.111.1332
SEQUENCE:3
DTSTAMP:20260424T151812Z
URL:https://business.reidsvillechamber.org/events/details/event-at-carolina-apothecary-inc-03-18-2010-1332
END:VEVENT

END:VCALENDAR
