BEGIN:VCALENDAR
VERSION:2.0
PRODID:-//ChamberMaster//Event Calendar 2.0//EN
METHOD:PUBLISH
X-PUBLISHED-TTL:P3D
REFRESH-INTERVAL:P3D
CALSCALE:GREGORIAN
BEGIN:VEVENT
DTSTART:20110722T180000Z
DTEND:20110722T200000Z
X-MICROSOFT-CDO-ALLDAYEVENT:FALSE
SUMMARY:Event at Caswell Family Medical Center
DESCRIPTION:Caswell Family Medical Center Ribbon Cutting Ceremony\n\n\n\nYou are invited to come be a part of our celebration as we open the new specialty wing of our facility
X-ALT-DESC;FMTTYPE=text/html:Caswell Family Medical Center Ribbon Cutting Ceremony<br />\n<br />\nYou are invited to come be a part of our celebration as we open the new specialty wing of our facility
LOCATION:439US Hwy 158 West\, Yanceyville\, NC 27379
UID:e.111.1960
SEQUENCE:3
DTSTAMP:20260423T140136Z
URL:https://business.reidsvillechamber.org/events/details/event-at-caswell-family-medical-center-07-22-2011-1960
END:VEVENT

END:VCALENDAR
