BEGIN:VCALENDAR
VERSION:2.0
PRODID:-//ChamberMaster//Event Calendar 2.0//EN
METHOD:PUBLISH
X-PUBLISHED-TTL:P3D
REFRESH-INTERVAL:P3D
CALSCALE:GREGORIAN
BEGIN:VEVENT
DTSTART:20100520T220000Z
DTEND:20100521T003000Z
X-MICROSOFT-CDO-ALLDAYEVENT:FALSE
SUMMARY:Event at Chinqua - Penn Plantation
DESCRIPTION:Courtyard Concerts- free concerts every Thursday in May. Food available by Mom's Grill.  Wines and soft drinks  available for purchase.
X-ALT-DESC;FMTTYPE=text/html:Courtyard Concerts- free concerts every Thursday in May. Food available by Mom's Grill.  Wines and soft drinks  available for purchase.
LOCATION:2138 Wentworth Street
UID:e.111.1397
SEQUENCE:3
DTSTAMP:20260424T132333Z
URL:https://business.reidsvillechamber.org/events/details/event-at-chinqua-penn-plantation-05-20-2010-1397
END:VEVENT

END:VCALENDAR
