BEGIN:VCALENDAR
VERSION:2.0
PRODID:-//ChamberMaster//Event Calendar 2.0//EN
METHOD:PUBLISH
X-PUBLISHED-TTL:P3D
REFRESH-INTERVAL:P3D
CALSCALE:GREGORIAN
BEGIN:VEVENT
DTSTART;VALUE=DATE:20100916
DTEND;VALUE=DATE:20100917
TRANSP:TRANSPARENT
X-MICROSOFT-CDO-ALLDAYEVENT:TRUE
SUMMARY:Event at Dream By Dream Travels
DESCRIPTION:Win a Dream Vacation for 2 Adults\n\n5 Night Cruise to the Bahamas from Charleston\, SC\n\nFebruary 2nd\, 2011\n\nIncludes Taxes and Government Port Charges\n\n\n\n*need not be present to win\n\nDrawing will be Held on October 4\, 2010\n\nA Portion of Proceeds will be donated to Local Chartities
X-ALT-DESC;FMTTYPE=text/html:Win a Dream Vacation for 2 Adults\n<br>5 Night Cruise to the Bahamas from Charleston\, SC\n<br>February 2nd\, 2011\n<br>Includes Taxes and Government Port Charges\n<br>\n<br>*need not be present to win\n<br>Drawing will be Held on October 4\, 2010\n<br>A Portion of Proceeds will be donated to Local Chartities
LOCATION:Dream by Dream Travels\; Call or Drop by our office on Settle Street
UID:e.111.1504
SEQUENCE:3
DTSTAMP:20260424T053243Z
URL:https://business.reidsvillechamber.org/events/details/event-at-dream-by-dream-travels-09-16-2010-1504
END:VEVENT

END:VCALENDAR
