BEGIN:VCALENDAR
VERSION:2.0
PRODID:-//ChamberMaster//Event Calendar 2.0//EN
METHOD:PUBLISH
X-PUBLISHED-TTL:P3D
REFRESH-INTERVAL:P3D
CALSCALE:GREGORIAN
BEGIN:VEVENT
DTSTART:20110203T223000Z
DTEND:20110204T003000Z
X-MICROSOFT-CDO-ALLDAYEVENT:FALSE
SUMMARY:Event at Everyday Art with More Than Yoga
DESCRIPTION:Meditation and yoga classes will be offered weekly at Everyday Art\, starting Thursday\, February 3.\n\nBoth meditation and Yoga will be for all levels.\n\nInstructor---Lynn Dyer-Registered Yoga Teacher and Reiki Master
X-ALT-DESC;FMTTYPE=text/html:Meditation and yoga classes will be offered weekly at Everyday Art\, starting Thursday\, February 3.\n<br>Both meditation and Yoga will be for all levels.\n<br>Instructor---Lynn Dyer-Registered Yoga Teacher and Reiki Master
LOCATION:Everyday Art
UID:e.111.1586
SEQUENCE:3
DTSTAMP:20260423T213148Z
URL:https://business.reidsvillechamber.org/events/details/event-at-everyday-art-with-more-than-yoga-02-03-2011-1586
END:VEVENT

END:VCALENDAR
