BEGIN:VCALENDAR
VERSION:2.0
PRODID:-//ChamberMaster//Event Calendar 2.0//EN
METHOD:PUBLISH
X-PUBLISHED-TTL:P3D
REFRESH-INTERVAL:P3D
CALSCALE:GREGORIAN
BEGIN:VEVENT
DTSTART:20110924T120000Z
DTEND:20110924T180000Z
X-MICROSOFT-CDO-ALLDAYEVENT:FALSE
SUMMARY:Event at First United Methodist Church
DESCRIPTION:SUPER SATURDAY - Fund Raising Event\n\nSaturday\, September 24\, 2011\, 8am - 2pm\n\nVendor and craft guild member can reserve a table for $25.  Church will have craft table\, fresh and frozen baked goods\, car wash\, donations for document shredding\, and metal recycling of donated items of various metals and large and small applicances.  May call for more information or reserve a table (349-6017).  Breakfast from 8am to 10:30am and Hotdog Lunch from 11am to 2pm.
X-ALT-DESC;FMTTYPE=text/html:SUPER SATURDAY - Fund Raising Event<br />\nSaturday\, September 24\, 2011\, 8am - 2pm<br />\nVendor and craft guild member can reserve a table for $25.&nbsp\; Church will have craft table\, fresh and frozen baked goods\, car wash\, donations for document shredding\, and metal recycling of donated items of various metals and large and small applicances.&nbsp\; May call for more information or reserve a table (349-6017).&nbsp\; Breakfast from 8am to 10:30am and Hotdog Lunch from 11am to 2pm.
LOCATION:First United Methodist Church\, 1520 South Scales St.\, Reidsville
UID:e.111.2000
SEQUENCE:3
DTSTAMP:20260423T103229Z
URL:https://business.reidsvillechamber.org/events/details/event-at-first-united-methodist-church-09-24-2011-2000
END:VEVENT

END:VCALENDAR
