BEGIN:VCALENDAR
VERSION:2.0
PRODID:-//ChamberMaster//Event Calendar 2.0//EN
METHOD:PUBLISH
X-PUBLISHED-TTL:P3D
REFRESH-INTERVAL:P3D
CALSCALE:GREGORIAN
BEGIN:VEVENT
DTSTART:20111215T160000Z
DTEND:20111215T230000Z
X-MICROSOFT-CDO-ALLDAYEVENT:FALSE
SUMMARY:Event at National College
DESCRIPTION:You are cordially invited to\n\n	 \n\n	National College's\n\n	Community Craft Fair\n\n	 \n\n	Thursday\, December 15th\n\n	11am until 6pm\n\n	  \n\n	336 Old Riverside Drive\n\n	Danville\, VA \n\n	  \n\n	The fair is free to the public and will feature booths from local craftsmen and brands such as Mary Kay\, Cookie Lee\, and Pampered Chef. Come check out what the fair has to offer!\n\n	  \n\n	Attention craftsmen and brand reps: If you desire to set up a booth\, there is no fee\, but please respond quickly to Boots Booton as spaces are filling up fast.
X-ALT-DESC;FMTTYPE=text/html:<p align="center" class="yiv1104217243MsoNormal" style="text-align: center">\n	<span style="font-family: 'serif'\; color: green\; font-size: 14pt">You are cordially invited to</span></p>\n<p align="center" class="yiv1104217243MsoNormal" style="text-align: center">\n	<span style="font-family: 'serif'\; color: green\; font-size: 16pt">&nbsp\;</span></p>\n<p align="center" class="yiv1104217243MsoNormal" style="text-align: center">\n	<b><span style="font-family: 'serif'\; color: green\; font-size: 16pt">National College&#39\;s</span></b></p>\n<p align="center" class="yiv1104217243MsoNormal" style="text-align: center">\n	<b><i><span style="font-family: 'serif'\; color: green\; font-size: 26pt">Community Craft Fair</span></i></b></p>\n<p align="center" class="yiv1104217243MsoNormal" style="text-align: center">\n	<span style="font-family: 'serif'\; color: green\; font-size: 16pt">&nbsp\;</span></p>\n<p align="center" class="yiv1104217243MsoNormal" style="text-align: center">\n	<span style="font-family: 'serif'\; color: green\; font-size: 14pt">Thursday\, December 15th</span></p>\n<p align="center" class="yiv1104217243MsoNormal" style="text-align: center">\n	<span style="font-family: 'serif'\; color: green\; font-size: 14pt">11am until 6pm</span></p>\n<p align="center" class="yiv1104217243MsoNormal" style="text-align: center">\n	<span style="font-family: 'serif'\; font-size: 12pt">&nbsp\;</span><span style="font-family: 'serif'\; color: green\; font-size: 14pt">&nbsp\;</span></p>\n<p align="center" class="yiv1104217243MsoNormal" style="text-align: center">\n	<span style="font-family: 'serif'\; color: green\; font-size: 14pt">336 Old Riverside Drive</span></p>\n<p align="center" class="yiv1104217243MsoNormal" style="text-align: center">\n	<span style="font-family: 'serif'\; color: green\; font-size: 14pt">Danville\, VA&nbsp\;</span></p>\n<p align="center" class="yiv1104217243MsoNormal" style="text-align: center">\n	<span style="font-family: 'serif'\; font-size: 12pt">&nbsp\;</span><span style="font-family: 'serif'\; color: green\; font-size: 12pt">&nbsp\;</span></p>\n<p align="center" class="yiv1104217243MsoNormal" id="yui_3_2_0_1_1320932255394219" style="text-align: center">\n	<span id="yui_3_2_0_1_1320932255394218" style="font-family: 'serif'\; color: green\; font-size: 14pt">The fair is free to the public and will feature booths from local craftsmen and brands such as Mary Kay\, Cookie Lee\, and Pampered Chef. Come check out what the fair has to offer!</span></p>\n<p align="center" class="yiv1104217243MsoNormal" style="text-align: center">\n	<span style="font-family: 'serif'\; font-size: 12pt">&nbsp\;</span><span style="font-family: 'serif'\; color: green\; font-size: 12pt">&nbsp\;</span></p>\n<p align="center" class="yiv1104217243MsoNormal" id="yui_3_2_0_1_1320932255394215" style="text-align: center">\n	<span id="yui_3_2_0_1_1320932255394214" style="font-family: 'serif'\; color: green\; font-size: 12pt">Attention craftsmen and brand reps: If you desire to set up a booth\, there is no fee\, but please respond quickly to Boots Booton as spaces are filling up fast. &nbsp\;<span _fck_bookmark="1" style="display: none">&nbsp\;</span></span></p>\n
LOCATION:National College 336 Old Riverside Drive Danville\, VA
UID:e.111.2080
SEQUENCE:3
DTSTAMP:20260421T175011Z
URL:https://business.reidsvillechamber.org/events/details/event-at-national-college-12-15-2011-2080
END:VEVENT

END:VCALENDAR
