BEGIN:VCALENDAR
VERSION:2.0
PRODID:-//ChamberMaster//Event Calendar 2.0//EN
METHOD:PUBLISH
X-PUBLISHED-TTL:P3D
REFRESH-INTERVAL:P3D
CALSCALE:GREGORIAN
BEGIN:VEVENT
DTSTART:20110327T190000Z
DTEND:20110327T203000Z
X-MICROSOFT-CDO-ALLDAYEVENT:FALSE
SUMMARY:Event at Reidsville Bicycles
DESCRIPTION:Weekly Group Bicycle Ride\n\nJoin us at Reidsville Bicycle at 139 S. Scales Street\n\n3:00 p.m. Sunday
X-ALT-DESC;FMTTYPE=text/html:Weekly Group Bicycle Ride<br />\nJoin us at Reidsville Bicycle at 139 S. Scales Street<br />\n3:00 p.m. Sunday
LOCATION:Reidsville Bicycles
UID:e.111.1889
SEQUENCE:3
DTSTAMP:20260423T213041Z
URL:https://business.reidsvillechamber.org/events/details/event-at-reidsville-bicycles-03-27-2011-1889
END:VEVENT

END:VCALENDAR
