BEGIN:VCALENDAR
VERSION:2.0
PRODID:-//ChamberMaster//Event Calendar 2.0//EN
METHOD:PUBLISH
X-PUBLISHED-TTL:P3D
REFRESH-INTERVAL:P3D
CALSCALE:GREGORIAN
BEGIN:VEVENT
DTSTART:20091105T220000Z
DTEND:20091106T010000Z
X-MICROSOFT-CDO-ALLDAYEVENT:FALSE
SUMMARY:Everyday Art Holiday Open House
DESCRIPTION:Everyday Art's HOLIDAY OPEN HOUSEthis Thursday evening\, November 5th from 5:00 - 8:00 pm!~ ~ ~ ~ ~ ~ ~ ~ ~ ~ ~ ~ ~ ~ ~ ~ ~ Come see what our artists have prepared for the holiday season! You will find gorgeous new pottery that's perfect for gift-giving and entertaining... handmade porcelain snowflake ornaments from Tracy Isley... jewelry created from 100 year old glass from Liquid Time... contemporary vintage designs from Hello Lydia... Winter Solace a new line of jewelry will debut... and more from 60+ local and regional artists and craftsmen!  Special discountsfor one night only!plus... Wine\, Hot Winter Wassail\, hors d'ouevresEveryday Artgallery\, gifts\, studio209 SW Mkt. St.Reidsville\, NC336-347-7015 For more information\, visit: www.EverydayArtGallery.com
X-ALT-DESC;FMTTYPE=text/html:<h1 style="text-align: center"><span style="color: #cc0033"><em><p id="ctrl-23109294" align="center" style="text-align: center"><font face="Arial" color="#007236" size="4"><span style="font-size: 13.5pt\; color: #007236\; font-family: Arial">Everyday Art's </span></font></p><p id="ctrl-23109295" align="center" style="text-align: center"><st1:place w:st="on"><font face="Arial Black" color="#88191c" size="6"><span style="font-size: 24pt\; color: #88191c\; font-family: 'Arial Black'">HOLIDAY</span></font></st1:place><font face="Arial Black" color="#88191c" size="6"><span style="font-size: 24pt\; color: #88191c\; font-family: 'Arial Black'"> OPEN HOUSE</span></font><font face="Arial" color="#ffffff" size="2"><span style="font-size: 10pt\; color: white\; font-family: Arial"><o:p></o:p></span></font></p><p id="ctrl-23109296" align="center" style="text-align: center"><font face="Arial" color="#007236" size="4"><span style="font-size: 13.5pt\; color: #007236\; font-family: Arial">this Thursday evening\, November 5th from 5:00 - 8:00 pm!</span></font><font face="Arial" color="#ffffff" size="2"><span style="font-size: 10pt\; color: white\; font-family: Arial"><o:p></o:p></span></font></p><p id="ctrl-23109297" align="center" style="text-align: center"><font face="Arial" color="#88191c" size="5"><span style="font-size: 18pt\; color: #88191c\; font-family: Arial">~ ~ ~ ~ ~ ~ ~ ~ ~ ~ ~ ~ ~ ~ ~ ~ ~</span></font><font face="Arial" color="#ffffff" size="2"><span style="font-size: 10pt\; color: white\; font-family: Arial"><o:p></o:p></span></font></p><p id="ctrl-23109298"><font face="Arial" color="#ffffff" size="2"><span style="font-size: 10pt\; color: white\; font-family: Arial"><o:p>&nbsp\;</o:p></span></font></p><p id="ctrl-23109300"><font face="Arial" color="#007236" size="4"><span style="font-size: 13.5pt\; color: #007236\; font-family: Arial">Come see what our artists have prepared for the holiday season! You will find gorgeous new pottery that's perfect for gift-giving and entertaining... handmade porcelain snowflake ornaments from <b><span style="font-weight: bold">Tracy Isley</span></b>... jewelry created from 100 year old glass from <b><span style="font-weight: bold">Liquid Time</span></b>... contemporary vintage designs from <b><span style="font-weight: bold">Hello Lydia</span></b>... <b><span style="font-weight: bold">Winter Solace</span></b> a new line of jewelry will debut... and more from<b><span style="font-weight: bold"> 60+ local and regional artists and craftsmen! </span></b></span></font><font face="Arial" color="#ffffff" size="2"><span style="font-size: 10pt\; color: white\; font-family: Arial"><o:p></o:p></span></font></p><p id="ctrl-23109301"><font face="Arial" color="#ffffff" size="2"><span style="font-size: 10pt\; color: white\; font-family: Arial"><o:p>&nbsp\;</o:p></span></font></p><p id="ctrl-23109303" align="center" style="text-align: center"><font face="Arial" color="#88191c" size="5"><span style="font-size: 18pt\; color: #88191c\; font-family: Arial">Special<b><span style="font-weight: bold"> discounts</span></b>for one night only!</span></font><font face="Arial" color="#ffffff" size="2"><span style="font-size: 10pt\; color: white\; font-family: Arial"><o:p></o:p></span></font></p><p id="ctrl-23109304" align="center" style="text-align: center"><b><font face="Arial" color="#007236" size="4"><span style="font-weight: bold\; font-size: 13.5pt\; color: #007236\; font-family: Arial">plus... Wine\, Hot Winter Wassail\, hors d'ouevres</span></font></b></p><b><font face="Arial" color="#007236" size="4"><span style="font-weight: bold\; font-size: 13.5pt\; color: #007236\; font-family: Arial"><font color="#007236"><span style="font-size: 13.5pt\; color: #007236\; font-family: Arial"><p id="ctrl-23109332" align="center" style="text-align: center"><b><font face="Papyrus" color="#231f20" size="5"><span style="font-weight: bold\; font-size: 18pt\; color: #231f20\; font-family: Papyrus">Everyday Art</span></font></b><font face="Arial" color="#ffffff" size="2"><span style="font-size: 10pt\; color: white\; font-family: Arial"><o:p></o:p></span></font></p><p id="ctrl-23109333" align="center" style="text-align: center"><b><font face="Papyrus" color="#231f20" size="5"><span style="font-weight: bold\; font-size: 18pt\; color: #231f20\; font-family: Papyrus">gallery\, gifts\, studio</span></font></b><font face="Arial" color="#ffffff" size="2"><span style="font-size: 10pt\; color: white\; font-family: Arial"><o:p></o:p></span></font></p><p id="ctrl-23109334" align="center" style="text-align: center"><st1:street w:st="on"><st1:address w:st="on"><b><font face="Papyrus" color="#231f20" size="5"><span style="font-weight: bold\; font-size: 18pt\; color: #231f20\; font-family: Papyrus">209 SW Mkt. St</span></font></b></st1:address></st1:street><b><font face="Papyrus" color="#231f20" size="5"><span style="font-weight: bold\; font-size: 18pt\; color: #231f20\; font-family: Papyrus">.</span></font></b><font face="Arial" color="#ffffff" size="2"><span style="font-size: 10pt\; color: white\; font-family: Arial"><o:p></o:p></span></font></p><p id="ctrl-23109335" align="center" style="text-align: center"><st1:place w:st="on"><st1:city w:st="on"><b><font face="Papyrus" color="#231f20" size="5"><span style="font-weight: bold\; font-size: 18pt\; color: #231f20\; font-family: Papyrus">Reidsville</span></font></b></st1:city><b><font face="Papyrus" color="#231f20" size="5"><span style="font-weight: bold\; font-size: 18pt\; color: #231f20\; font-family: Papyrus">\, <st1:state w:st="on">NC</st1:state></span></font></b></st1:place><font face="Arial" color="#ffffff" size="2"><span style="font-size: 10pt\; color: white\; font-family: Arial"><o:p></o:p></span></font></p><p id="ctrl-23109336" align="center" style="text-align: center"><b><font face="Papyrus" color="#231f20" size="5"><span style="font-weight: bold\; font-size: 18pt\; color: #231f20\; font-family: Papyrus">336-347-7015</span></font></b><font face="Arial" color="#ffffff" size="2"><span style="font-size: 10pt\; color: white\; font-family: Arial"><o:p></o:p></span></font></p><p id="ctrl-23109337" align="center" style="text-align: center"><font face="Arial" color="#ffffff" size="2"><span style="font-size: 10pt\; color: white\; font-family: Arial"><o:p>&nbsp\;</o:p></span></font></p><p id="ctrl-23109339" align="center" style="text-align: center"><font face="Arial" color="#231f20" size="4"><span style="font-size: 13.5pt\; color: #231f20\; font-family: Arial">For more information\, visit: <a title="http://sitebuilder.vpweb.com/em/util/link.aspx?h=206ba8d9-0e75-44f1-9f24-607d1718568d&amp\;s=b11f0259-9c8e-4552-8cc5-4cb762d8758f" href="http://sitebuilder.vpweb.com/em/util/link.aspx?h=206ba8d9-0e75-44f1-9f24-607d1718568d&amp\;s=b11f0259-9c8e-4552-8cc5-4cb762d8758f"><font title="http://sitebuilder.vpweb.com/em/util/link.aspx?h=206ba8d9-0e75-44f1-9f24-607d1718568d&amp\;s=b11f0259-9c8e-4552-8cc5-4cb762d8758f" color="#bfb894"><span title="http://sitebuilder.vpweb.com/em/util/link.aspx?h=206ba8d9-0e75-44f1-9f24-607d1718568d&amp\;s=b11f0259-9c8e-4552-8cc5-4cb762d8758f" style="color: #bfb894">www.EverydayArtGallery.com</span></font></a></span></font><font face="Arial" color="#ffffff" size="2"><span style="font-size: 10pt\; color: white\; font-family: Arial"><o:p></o:p></span></font></p><p id="ctrl-23109341" align="center" style="text-align: center"><font face="Arial" color="#ffffff" size="2"><span style="font-size: 10pt\; color: white\; font-family: Arial"><o:p>&nbsp\;</o:p></span></font></p></span></font></span></font></b></em></span></h1>
LOCATION:
UID:e.111.1265
SEQUENCE:3
DTSTAMP:20260424T234726Z
URL:https://business.reidsvillechamber.org/events/details/everyday-art-holiday-open-house-11-05-2009-1265
END:VEVENT

END:VCALENDAR
