BEGIN:VCALENDAR
VERSION:2.0
PRODID:-//ChamberMaster//Event Calendar 2.0//EN
METHOD:PUBLISH
X-PUBLISHED-TTL:P3D
REFRESH-INTERVAL:P3D
CALSCALE:GREGORIAN
BEGIN:VEVENT
DTSTART;VALUE=DATE:20110829
DTEND;VALUE=DATE:20110830
TRANSP:TRANSPARENT
X-MICROSOFT-CDO-ALLDAYEVENT:TRUE
SUMMARY:Expanding and Financing a Veteran- Owned Small Business
DESCRIPTION:Guest speaker: Senator Kay Hagan\n\n	The Veterans Business Outreach Center of Fayetteville State University and the\n\n	U.S. Small Business Administration are hosting a small business workshop that will\n\n	provide veterans\, spouses\, active duty\, guard\, and reserve members with the knowledge\n\n	and resources to help expand and finance their veteran?]owned small business.\n\n	Sessions will include marketing your business to the Veterans Administration\, learning\n\n	about export opportunities\, and financing your business with special financing options\n\n	for veterans and spouses.\n\n	Veterans\, spouses\, and family members are encouraged to participate in this FREE\n\n	event! There is absolutely no cost to attend and nothing will be sold at this event.\n\n	For directions: www.bryanpark.com/contactus.html\n\n	Registration required before August 25. Contact Lisa Belcher at:\n\n	lbelche1@uncfsu.edu or (910) 672?]2683.\n\n	VETERANS\, SPOUSES\, ACTIVE DUTY\, GUARD & RESERVES\n\n	Mark Your Calendar!\n\n	Expanding and Financing a Veteran?]Owned Small Business\n\n	All opinions\, conclusions or recommendations expressed are those of the author(s) and do not necessarily reflect the views of the SBA. All\n\n	SBA funded programs are extended to the public on a nondiscriminatory basis. Co?]sponsorship Authorization #11?]0460?]141 SBA's participation\n\n	in this activity is not an endorsement of the views\, opinions\, products or services of any cosponsor or other person or entity.\n\n	Reasonable arrangements
X-ALT-DESC;FMTTYPE=text/html:<p align="left">\n	<b><font face="Calibri-Bold" size="5"><font face="Calibri-Bold" size="5">Guest speaker: Senator Kay Hagan</font></font></b></p>\n<p align="left">\n	<font face="Calibri">The Veterans Business Outreach Center of Fayetteville State University and the</font></p>\n<p align="left">\n	<font face="Calibri">U.S. Small Business Administration are hosting a small business workshop that will</font></p>\n<p align="left">\n	<font face="Calibri">provide veterans\, spouses\, active duty\, guard\, and reserve members with the knowledge</font></p>\n<p align="left">\n	<font face="Calibri">and resources to help expand and finance their veteran</font><font face="Calibri">?]</font><font face="Calibri">owned small business.</font></p>\n<p align="left">\n	<font face="Calibri">Sessions will include marketing your business to the Veterans Administration\, learning</font></p>\n<p align="left">\n	<font face="Calibri">about export opportunities\, and financing your business with special financing options</font></p>\n<p align="left">\n	<font face="Calibri">for veterans and spouses.</font></p>\n<p align="left">\n	<font face="Calibri">Veterans\, spouses\, and family members are encouraged to participate in this </font><b><font face="Times New Roman">FREE</font></b></p>\n<p align="left">\n	<font face="Calibri">event! There is absolutely no cost to attend and nothing will be sold at this event.</font></p>\n<p align="left">\n	<font face="Calibri">For directions: www.bryanpark.com/contactus.html</font></p>\n<p align="left">\n	<b><font face="Calibri-Bold" size="4"><font face="Calibri-Bold" size="4">Registration required before August 25. Contact Lisa Belcher at:</font></font></b></p>\n<p align="left">\n	<font color="#2c5cff" face="Calibri" size="4"><font color="#2c5cff" face="Calibri" size="4"><font color="#2c5cff" face="Calibri" size="4">lbelche1@uncfsu.edu </font></font></font><font color="#000000"><font face="Calibri" size="4"><font face="Calibri" size="4">or (910) 672</font></font><font face="Calibri" size="4"><font face="Calibri" size="4">?]</font></font><font face="Calibri" size="4"><font face="Calibri" size="4">2683.</font></font></font></p>\n<p align="left">\n	<b><font color="#ffffff" face="Calibri-Bold" size="6"><font color="#ffffff" face="Calibri-Bold" size="6"><font color="#ffffff" face="Calibri-Bold" size="6">VETERANS\, SPOUSES\, ACTIVE DUTY\, GUARD &amp\; RESERVES</font></font></font></b></p>\n<p align="left">\n	<b><font color="#ffffff" face="Calibri-Bold" size="6"><font color="#ffffff" face="Calibri-Bold" size="6"><font color="#ffffff" face="Calibri-Bold" size="6">Mark Your Calendar!</font></font></font></b></p>\n<p align="left">\n	<b><font color="#ffffff" face="Calibri-Bold" size="6"><font color="#ffffff" face="Calibri-Bold" size="6"><font color="#ffffff" face="Calibri-Bold" size="6">Expanding and Financing a Veteran</font></font></font><font color="#ffffff" face="Calibri-Bold" size="6"><font color="#ffffff" face="Calibri-Bold" size="6"><font color="#ffffff" face="Calibri-Bold" size="6">?]</font></font></font><font color="#ffffff" face="Calibri-Bold" size="6"><font color="#ffffff" face="Calibri-Bold" size="6"><font color="#ffffff" face="Calibri-Bold" size="6">Owned Small Business</font></font></font></b></p>\n<p align="left">\n	<i><font face="Calibri-Italic" size="1"><font face="Calibri-Italic" size="1">All opinions\, conclusions or recommendations expressed are those of the author(s) and do not necessarily reflect the views of the SBA. All</font></font></i></p>\n<p align="left">\n	<i><font face="Calibri-Italic" size="1"><font face="Calibri-Italic" size="1">SBA funded programs are extended to the public on a nondiscriminatory basis. Co</font></font><font face="Calibri-Italic" size="1"><font face="Calibri-Italic" size="1">?]</font></font><font face="Calibri-Italic" size="1"><font face="Calibri-Italic" size="1">sponsorship Authorization #11</font></font><font face="Calibri-Italic" size="1"><font face="Calibri-Italic" size="1">?]</font></font><font face="Calibri-Italic" size="1"><font face="Calibri-Italic" size="1">0460</font></font><font face="Calibri-Italic" size="1"><font face="Calibri-Italic" size="1">?]</font></font><font face="Calibri-Italic" size="1"><font face="Calibri-Italic" size="1">141 SBA&rsquo\;s participation</font></font></i></p>\n<p align="left">\n	<i><font face="Calibri-Italic" size="1"><font face="Calibri-Italic" size="1">in this activity is not an endorsement of the views\, opinions\, products or services of any cosponsor or other person or entity.</font></font></i></p>\n<p>\n	<i><font face="Calibri-Italic" size="1"><font face="Calibri-Italic" size="1">Reasonable arrangements</font></font></i></p>\n
LOCATION:Bryan Park Golf and Conference Center 6275 Bryan Park Road\, Greensboro\, NC
UID:e.111.1985
SEQUENCE:3
DTSTAMP:20260423T121459Z
URL:https://business.reidsvillechamber.org/events/details/expanding-and-financing-a-veteran-owned-small-business-08-29-2011-1985
END:VEVENT

END:VCALENDAR
