BEGIN:VCALENDAR
VERSION:2.0
PRODID:-//ChamberMaster//Event Calendar 2.0//EN
METHOD:PUBLISH
X-PUBLISHED-TTL:P3D
REFRESH-INTERVAL:P3D
CALSCALE:GREGORIAN
BEGIN:VEVENT
DTSTART:20111118T230000Z
DTEND:20111119T020000Z
X-MICROSOFT-CDO-ALLDAYEVENT:FALSE
SUMMARY:Experience a Night of Sweet Surprises in Downtown Reidsville
DESCRIPTION:Click Here for Flyer\n\n\n\n\n\n\n\n\n\nTree Lighting\, Santa and Much More!
X-ALT-DESC;FMTTYPE=text/html:<a href="http://cloud.chambermaster.com/userfiles/UserFiles/chambers/111/File/christmasopenhouse.jpg"><br />\n<br />\nClick Here for Flyer</a><br />\n<br />\n<br />\n<br />\n<br />\nTree Lighting\, Santa and Much More!
LOCATION:Downtown Reidsville
UID:e.111.2092
SEQUENCE:3
DTSTAMP:20260421T193233Z
URL:https://business.reidsvillechamber.org/events/details/experience-a-night-of-sweet-surprises-in-downtown-reidsville-11-18-2011-2092
END:VEVENT

END:VCALENDAR
