BEGIN:VCALENDAR
VERSION:2.0
PRODID:-//ChamberMaster//Event Calendar 2.0//EN
METHOD:PUBLISH
X-PUBLISHED-TTL:P3D
REFRESH-INTERVAL:P3D
CALSCALE:GREGORIAN
BEGIN:VEVENT
DTSTART:20140926T230000Z
DTEND:20140927T020000Z
X-MICROSOFT-CDO-ALLDAYEVENT:FALSE
SUMMARY:Family Night at Reidsville Lanes
DESCRIPTION:
X-ALT-DESC;FMTTYPE=text/html:
LOCATION:
UID:e.111.2922
SEQUENCE:3
DTSTAMP:20260422T200310Z
URL:https://business.reidsvillechamber.org/events/details/family-night-at-reidsville-lanes-09-26-2014-2922
END:VEVENT

END:VCALENDAR
