BEGIN:VCALENDAR
VERSION:2.0
PRODID:-//ChamberMaster//Event Calendar 2.0//EN
METHOD:PUBLISH
X-PUBLISHED-TTL:P3D
REFRESH-INTERVAL:P3D
CALSCALE:GREGORIAN
BEGIN:VEVENT
DTSTART:20120428T130000Z
DTEND:20120428T130000Z
X-MICROSOFT-CDO-ALLDAYEVENT:FALSE
SUMMARY:Farmer's Market Opening!!!
DESCRIPTION:Come down to Market Square for the\n\n	official opening of the Farmer's Market!!!\n\n	\n\n	Click Here For Flyer
X-ALT-DESC;FMTTYPE=text/html:<p style="text-align: center">\n	Come down to Market Square for the<br />\n	official opening of the Farmer&#39\;s Market!!!<br />\n	<br />\n	<a href="http://cloud.chambermaster.com/userfiles/UserFiles/chambers/111/File/farmersmarketApril2012.pdf">Click Here For Flyer</a></p>\n
LOCATION:
UID:e.111.2201
SEQUENCE:3
DTSTAMP:20260421T113641Z
URL:https://business.reidsvillechamber.org/events/details/farmer-s-market-opening-04-28-2012-2201
END:VEVENT

END:VCALENDAR
