BEGIN:VCALENDAR
VERSION:2.0
PRODID:-//ChamberMaster//Event Calendar 2.0//EN
METHOD:PUBLISH
X-PUBLISHED-TTL:P3D
REFRESH-INTERVAL:P3D
CALSCALE:GREGORIAN
BEGIN:VEVENT
DTSTART:20110210T160000Z
DTEND:20110212T220000Z
X-MICROSOFT-CDO-ALLDAYEVENT:FALSE
SUMMARY:February Gallery Opening & Sale at Everyday Art Gallery\, Gifts & Studio
DESCRIPTION:February Gallery Show & Sale featuring orginal work from more than 50 local and regional artists and craftsmen. February's artist spotlight is on Bejeweled Creations of Reidsville. Perfect for Valentine's gifts!
X-ALT-DESC;FMTTYPE=text/html:February Gallery Show &amp\; Sale featuring orginal work from more than 50 local and regional artists and craftsmen. February's artist spotlight is on Bejeweled Creations of Reidsville. Perfect for Valentine's gifts!
LOCATION:Everyday Art Gallery\, Gifts\, Studio at 209 SW Market Street\, Downtown Reidsville
UID:e.111.1590
SEQUENCE:3
DTSTAMP:20260423T213402Z
URL:https://business.reidsvillechamber.org/events/details/february-gallery-opening-sale-at-everyday-art-gallery-gifts-studio-02-10-2011-1590
END:VEVENT

END:VCALENDAR
