BEGIN:VCALENDAR
VERSION:2.0
PRODID:-//ChamberMaster//Event Calendar 2.0//EN
METHOD:PUBLISH
X-PUBLISHED-TTL:P3D
REFRESH-INTERVAL:P3D
CALSCALE:GREGORIAN
BEGIN:VEVENT
DTSTART:20110811T160000Z
DTEND:20110811T170000Z
X-MICROSOFT-CDO-ALLDAYEVENT:FALSE
SUMMARY:Financial Workshop by Edward Jones/Kalynn Roland
DESCRIPTION:Find out what you should be doing now to prepare for retirement.\n\n\n\nA box lunch will be included
X-ALT-DESC;FMTTYPE=text/html:<br />\nFind out what you should be doing now to prepare for retirement.<br />\n<br />\nA box lunch will be included
LOCATION:The Chamber of Commerce\, 112 Settle Street\, Reidsville
UID:e.111.1916
SEQUENCE:3
DTSTAMP:20260423T121752Z
URL:https://business.reidsvillechamber.org/events/details/financial-workshop-by-edward-jones-kalynn-roland-08-11-2011-1916
END:VEVENT

END:VCALENDAR
