BEGIN:VCALENDAR
VERSION:2.0
PRODID:-//ChamberMaster//Event Calendar 2.0//EN
METHOD:PUBLISH
X-PUBLISHED-TTL:P3D
REFRESH-INTERVAL:P3D
CALSCALE:GREGORIAN
BEGIN:VEVENT
DTSTART:20110712T160000Z
DTEND:20110712T170000Z
X-MICROSOFT-CDO-ALLDAYEVENT:FALSE
SUMMARY:Financial Workshop\, First in a Series of Four by Edward Jones/Kalynn Roland
DESCRIPTION:Click HereLearn the key features of bonds\, stocks and mutual funds\n\n\n\nA box lunch will be provided
X-ALT-DESC;FMTTYPE=text/html:<a href="http://cloud.chambermaster.com/userfiles/UserFiles/chambers/111/File/Financial_Workshops_at_the_Chamber.pdf">Click </a><a href="http://cloud.chambermaster.com/userfiles/UserFiles/chambers/111/File/Financial_Workshops_at_the_Chamber.pdf">Here</a>Learn the key features of bonds\, stocks and mutual funds<br />\n<br />\nA box lunch will be provided
LOCATION:The Reidsville Chamber of Commerce\, 112 Settle Street\, Reidsville
UID:e.111.1915
SEQUENCE:3
DTSTAMP:20260423T140042Z
URL:https://business.reidsvillechamber.org/events/details/financial-workshop-first-in-a-series-of-four-by-edward-jones-kalynn-roland-07-12-2011-1915
END:VEVENT

END:VCALENDAR
