BEGIN:VCALENDAR
VERSION:2.0
PRODID:-//ChamberMaster//Event Calendar 2.0//EN
METHOD:PUBLISH
X-PUBLISHED-TTL:P3D
REFRESH-INTERVAL:P3D
CALSCALE:GREGORIAN
BEGIN:VEVENT
DTSTART:20100303T190000Z
DTEND:20100303T201500Z
X-MICROSOFT-CDO-ALLDAYEVENT:FALSE
SUMMARY:Finding nursing care at home-Free teleconference for caregivers
DESCRIPTION:Topic: Finding nursing care or companions at home \nWednesday\, March 3\, at 2 - 3:15 p.m. \n\nWorkshops include tips and practical problem-solving techniques\, as well as time for questions and discussion. The workshops are led by Julia A. Bucher\, RN\, Ph.D.\, an associate professor in the Department of Nursing at York College in Pennsylvania. Bucher is a caregiver herself and co-editor of the American Cancer Society's Complete Guide to Cancer Caregiving. \n\nPeople can register for the telephone workshops by calling 1-800-966-3586 or by visiting cancer.org/sacaregiverworkshops.
X-ALT-DESC;FMTTYPE=text/html:<div>Topic: Finding nursing care or companions at home <br />Wednesday\, March 3\, at 2&nbsp\;- 3:15 p.m. <br /><br />Workshops include tips and practical problem-solving techniques\, as well as time for questions and discussion. The workshops are led by Julia A. Bucher\, RN\, Ph.D.\, an associate professor in the Department of Nursing at York College in Pennsylvania. Bucher is a caregiver herself and co-editor of the American Cancer Society&rsquo\;s Complete Guide to Cancer Caregiving. <br /><br />People can register for the telephone workshops by calling 1-800-966-3586 or by visiting cancer.org/sacaregiverworkshops.</div>
LOCATION:Workshops conducted by phone
UID:e.111.1336
SEQUENCE:3
DTSTAMP:20260424T152612Z
URL:https://business.reidsvillechamber.org/events/details/finding-nursing-care-at-home-free-teleconference-for-caregivers-03-03-2010-1336
END:VEVENT

END:VCALENDAR
