BEGIN:VCALENDAR
VERSION:2.0
PRODID:-//ChamberMaster//Event Calendar 2.0//EN
METHOD:PUBLISH
X-PUBLISHED-TTL:P3D
REFRESH-INTERVAL:P3D
CALSCALE:GREGORIAN
BEGIN:VEVENT
DTSTART:20100410T230000Z
DTEND:20100411T020000Z
X-MICROSOFT-CDO-ALLDAYEVENT:FALSE
SUMMARY:Fine Arts Festival Association Wine & Dine Silent Auction
DESCRIPTION:Greece through Wine\, Food & Art\n\nSponsor:  Fine Arts Festival Association of Rockingham County
X-ALT-DESC;FMTTYPE=text/html:Greece through Wine\, Food &amp\; Art\n<br>Sponsor:  Fine Arts Festival Association of Rockingham County
LOCATION:Meadow Greens Eden\, NC
UID:e.111.1324
SEQUENCE:3
DTSTAMP:20260424T132718Z
URL:https://business.reidsvillechamber.org/events/details/fine-arts-festival-association-wine-dine-silent-auction-04-10-2010-1324
END:VEVENT

END:VCALENDAR
