BEGIN:VCALENDAR
VERSION:2.0
PRODID:-//ChamberMaster//Event Calendar 2.0//EN
METHOD:PUBLISH
X-PUBLISHED-TTL:P3D
REFRESH-INTERVAL:P3D
CALSCALE:GREGORIAN
BEGIN:VEVENT
DTSTART:20100708T220000Z
DTEND:20100709T000000Z
X-MICROSOFT-CDO-ALLDAYEVENT:FALSE
SUMMARY:Fish Platter Class
DESCRIPTION:July 8\, Thur. 6:00 - 7:30 ($28) \nFISH PLATTER with Dottie Talley \nCreate a platter in the shape of a fish from a slab of clay! Follow our pattern or create your own design. Have your platter dip-glazed by our professionals or use colorful under glaze paints. Your finished platter will be food\, oven and dishwasher safe. All ages\, under 12 must be with adult.
X-ALT-DESC;FMTTYPE=text/html:<div>July 8\, Thur. 6:00 - 7:30 ($28) <br />FISH PLATTER with Dottie Talley <br />Create a platter in the shape of a fish from a slab of clay! Follow our pattern or create your own design. Have your platter dip-glazed by our professionals or use colorful under glaze paints. Your finished platter will be food\, oven and dishwasher safe. All ages\, under 12 must be with adult.</div>
LOCATION:Upstairs studio at Everyday Art Gallery\, 209 SW Market Street\, Reidsville
UID:e.111.1473
SEQUENCE:3
DTSTAMP:20260424T084630Z
URL:https://business.reidsvillechamber.org/events/details/fish-platter-class-07-08-2010-1473
END:VEVENT

END:VCALENDAR
